Workbook

Sheet 1 день
A1: 1 день
B2: № по сборн. Рецеп. | C2: наименование | D2: выход, гр. | E2: белки,г. | F2: жиры,г. | G2: углеводы,г. | H2: Энерг.цен.,ккал | I2: Минеральные элементы | L2: Витамины
I3: Са | J3: Mg | K3: Fe | L3: В1, мг. | M3: В2, мг. | N3: С, мг.
C4: завтрак
B5: 1.3 | C5: Бутерброд с маслом | D5: 115 | E5: 2.4 | F5: 12.7 | G5: 14.6 | H5: 186 | I5: 8.7 | J5: 9.9 | K5: 0.63 | L5: 0.05 | M5: 0.03 | N5: 0
B6: 210 | C6: каша,,дружба,, | D6: 250 | E6: 7.9 | F6: 10.8 | G6: 41.9 | H6: 300 | I6: 159.3 | J6: 46.37 | K6: 1 | L6: 0.15 | M6: 0.2 | N6: 0.67
B7: 1.4 | C7: сыр голандский | D7: 30 | E7: 7.9 | F7: 8 | G7: 0 | H7: 105 | I7: 300 | J7: 16.5 | K7: 0.21 | L7: 0.01 | M7: 0.11 | N7: 0.21
B8: 304 | C8: кофейный напиток | D8: 200 | E8: 2.9 | F8: 2.8 | G8: 14.9 | H8: 94 | I8: 105.86 | J8: 12.18 | K8: 0.11 | L8: 0.03 | M8: 0.12 | N8: 0.52
C9: итого | D9: =SUM(D5:D8) -> 595 | E9: =SUM(E5:E8) -> 21.1 | F9: =SUM(F5:F8) -> 34.3 | G9: =SUM(G5:G8) -> 71.4 | H9: =SUM(H5:H8) -> 685 | I9: =SUM(I5:I8) -> 573.86 | J9: =SUM(J5:J8) -> 84.95 | K9: =SUM(K5:K8) -> 1.95 | ... N9: =SUM(N5:N8) -> 1.4
C10: завтрак 2
C11: сок фруктовый | D11: 200 | E11: 0.5 | F11: 0 | G11: 10.6 | H11: 44 | I11: 7.85 | J11: 2.09 | K11: 0.79 | L11: 0.004 | M11: 0.005 | N11: 0.48
C12: печенье | D12: 50 | E12: 1.5 | F12: 2 | G12: 14.9 | H12: 83.4 | I12: 0 | J12: 4 | K12: 0.4 | L12: 0 | M12: 0 | N12: 0
C13: итого | D13: =SUM(D11:D12) -> 250 | E13: =SUM(E11:E12) -> 2 | F13: =SUM(F11:F12) -> 2 | G13: =SUM(G11:G12) -> 25.5 | H13: =SUM(H11:H12) -> 127.4 | I13: =SUM(I11:I12) -> 7.85 | J13: =SUM(J11:J12) -> 6.09 | K13: =SUM(K11:K12) -> 1.19 | ... N13: =SUM(N11:N12) -> 0.48
C14: обед
B15: 13 | C15: салат из свежих помидор | D15: 100 | E15: 0.9 | F15: 5 | G15: 4.8 | H15: 71 | I15: 15.87 | J15: 14.78 | K15: 0.71 | L15: 0.05 | M15: 0.03 | N15: 16.91
B16: 55 | C16: щи из свеж.капусты | D16: 300 | E16: 2 | F16: 5.4 | G16: 8.8 | H16: 96 | I16: 40.62 | J16: 19.86 | K16: 0.73 | L16: 0.06 | M16: 0.06 | N16: 12.01
B17: 133 | C17: курица отварная | D17: 100 | E17: 26.1 | F17: 24.6 | G17: 0.3 | H17: 327 | I17: 22.58 | J17: 24.33 | K17: 2.14 | L17: 0.08 | M17: 0.18 | N17: 1.27
B18: 8.1 | C18: рис отварной | D18: 180 | E18: 4.5 | F18: 7 | G18: 45.3 | H18: 271 | I18: 21.17 | J18: 18.15 | K18: 0.5 | L18: 0.02 | M18: 0.02 | N18: 0
B19: 319 | C19: напиток из плодов шиповника | D19: 200 | E19: 0.7 | F19: 0.3 | G19: 29 | H19: 127 | I19: 12.22 | J19: 3.23 | K19: 0.64 | L19: 0.01 | M19: 0.05 | N19: 80
B20: 1, 5 | C20: хлеб пшеничный | D20: 70 | E20: 3.1 | F20: 7 | G20: 33.8 | H20: 172.2 | I20: 16.1 | J20: 23.1 | K20: 1.4 | L20: 0.11 | M20: 0.04 | N20: 0
B21: 1.6 | C21: хлеб ржаной | D21: 40 | E21: 2.6 | F21: 0.48 | G21: 13.3 | H21: 77.2 | I21: 14 | J21: 18.8 | K21: 1.56 | L21: 0.07 | M21: 0.02 | N21: 0
C22: итого | D22: =SUM(D15:D21) -> 990 | E22: =SUM(E15:E21) -> 39.9 | F22: =SUM(F15:F21) -> 49.78 | G22: =SUM(G15:G21) -> 135.3 | H22: =SUM(H15:H21) -> 1141.4 | I22: =SUM(I15:I21) -> 142.56 | J22: =SUM(J15:J21) -> 122.25 | K22: =SUM(K15:K21) -> 7.68 | ... N22: =SUM(N15:N21) -> 110.19
C23: полдник
B24: 300 | C24: чай с сахаром | D24: 200 | E24: 0.2 | F24: 0 | G24: 9.1 | H24: 36 | I24: 0.26 | J24: 0 | K24: 0.03 | L24: 0 | M24: 0 | N24: 0
B25: 265 | C25: Пирожок печеный с повидлом | D25: 100 | E25: 6 | F25: 5 | G25: 56 | H25: 289 | I25: 17.64 | J25: 9.48 | K25: 1.12 | L25: 0.06 | M25: 0.05 | N25: 0.09
C26: Фрукт в ассортименте
C27: итого | D27: =SUM(D24:D25) -> 300 | E27: =SUM(E24:E25) -> 6.2 | F27: =SUM(F24:F25) -> 5 | G27: =SUM(G24:G25) -> 65.1 | H27: =SUM(H24:H25) -> 325 | I27: =SUM(I24:I25) -> 17.9 | J27: =SUM(J24:J25) -> 9.48 | K27: =SUM(K24:K25) -> 1.15 | ... N27: =SUM(N24:N25) -> 0.09
C28: ужин
B29: 6 | C29: салат из капусты | D29: 100 | E29: 2.1 | F29: 4.5 | G29: 10.3 | H29: 94 | I29: 58.83 | J29: 20.53 | K29: 0.75 | L29: 0.03 | M29: 0.05 | N29: 21.65
B30: 122 | C30: запеканка картоф.с мясом | D30: 250 | E30: 18.4 | F30: 17.4 | G30: 30.7 | H30: 362 | I30: 28.99 | J30: 57.29 | K30: 2.42 | L30: 0.11 | M30: 0.16 | N30: 1.29
B31: 302 | C31: чай с сахаром,лимоном | D31: 200 | E31: 0.2 | F31: 0 | G31: 9.3 | H31: 38 | I31: 2.73 | J31: 0.73 | K31: 0.06 | L31: 0 | M31: 0 | N31: 1.12
B32: 1, 5 | C32: хлеб пшеничный | D32: 70 | E32: 3.1 | F32: 7 | G32: 33.8 | H32: 172.2 | I32: 16.1 | J32: 23.1 | K32: 1.4 | L32: 0.11 | M32: 0.04 | N32: 0
B33: 1.6 | C33: хлеб ржаной | D33: 40 | E33: 2.6 | F33: 0.48 | G33: 13.3 | H33: 77.2 | I33: 14 | J33: 18.8 | K33: 1.56 | L33: 0.07 | M33: 0.02 | N33: 0
C34: итого | D34: =SUM(D29:D33) -> 660 | E34: =SUM(E29:E33) -> 26.4 | F34: =SUM(F29:F33) -> 29.38 | G34: =SUM(G29:G33) -> 97.4 | H34: =SUM(H29:H33) -> 743.4 | I34: =SUM(I29:I33) -> 120.65 | J34: =SUM(J29:J33) -> 120.45 | K34: =SUM(K29:K33) -> 6.19 | ... N34: =SUM(N29:N33) -> 24.06
C35: ужин 2
B36: 298 | C36: кисломол.прод. | D36: 200 | E36: 5.7 | F36: 6.3 | G36: 17.6 | H36: 151 | I36: 235.2 | J36: 27.44 | K36: 0.23 | L36: 0.06 | M36: 0.33 | N36: 1.37
C37: итого за день | D37: =SUM(D9+D13+D22+D27+D34+D36) -> 2995 | E37: =SUM(E9+E13+E22+E27+E34+E36) -> 101.3 | F37: =SUM(F9+F13+F22+F27+F34+F36) -> 126.76 | G37: =SUM(G9+G13+G22+G27+G34+G36) -> 412.3 | H37: =SUM(H9+H13+H22+H27+H34+H36) -> 3173.2 | I37: =SUM(I9+I13+I22+I27+I34+I36) -> 1098.02 | J37: =SUM(J9+J13+J22+J27+J34+J36) -> 370.66 | K37: =SUM(K9+K13+K22+K27+K34+K36) -> 18.39 | ... N37: =SUM(N9+N13+N22+N27+N34+N36) -> 137.59

Sheet 2 день
A1: 2 день
B2: № по сборн. Рецеп. | C2: наименование | D2: выход, гр. | E2: белки,г. | F2: жиры,г. | G2: углеводы,г. | H2: Энерг.цен.,ккал | I2: Минеральные элементы | L2: Витамины
I3: Са | J3: Mg | K3: Fe | L3: В1, мг. | M3: В2, мг. | N3: С, мг.
C4: завтрак
B5: 1.3 | C5: Бутерброд с маслом | D5: 115 | E5: 2.4 | F5: 12.7 | G5: 14.6 | H5: 186 | I5: 8.7 | J5: 9.9 | K5: 0.63 | L5: 0.05 | M5: 0.03 | N5: 0
B6: 208 | C6: каша пшенная молочная | D6: 250 | E6: 6.7 | F6: 7.6 | G6: 32.6 | H6: 222 | I6: 120.25 | J6: 32.58 | K6: 1.65 | L6: 0.12 | M6: 0.16 | N6: 0.47
B7: 306 | C7: какао с молоком | D7: 200 | E7: 3.6 | F7: 3.3 | G7: 13.7 | H7: 98 | I7: 110.37 | J7: 26.97 | K7: 0.88 | L7: 0.03 | M7: 0.13 | N7: 0.52
C8: итого | D8: =SUM(D5:D7) -> 565 | E8: =SUM(E5:E7) -> 12.7 | F8: =SUM(F5:F7) -> 23.6 | G8: =SUM(G5:G7) -> 60.9 | H8: =SUM(H5:H7) -> 506 | I8: =SUM(I5:I7) -> 239.32 | J8: =SUM(J5:J7) -> 69.45 | K8: =SUM(K5:K7) -> 3.16 | ... N8: =SUM(N5:N7) -> 0.99
C9: завтрак 2
B10: 234 | C10: Омлет | D10: 155 | E10: 14.6 | F10: 25.6 | G10: 2.6 | H10: 299 | I10: 100.46 | J10: 16.81 | K10: 2.5 | L10: 0.07 | M10: 0.46 | N10: 0.22
B11: 304 | C11: кофейный напиток | D11: 200 | E11: 2.9 | F11: 2.8 | G11: 14.9 | H11: 94 | I11: 105.86 | J11: 12.18 | K11: 0.11 | L11: 0.03 | M11: 0.12 | N11: 0.52
C12: итого | D12: =SUM(D10:D11) -> 355 | E12: =SUM(E10:E11) -> 17.5 | F12: =SUM(F10:F11) -> 28.4 | G12: =SUM(G10:G11) -> 17.5 | H12: =SUM(H10:H11) -> 393 | I12: =SUM(I10:I11) -> 206.32 | J12: =SUM(J10:J11) -> 28.99 | K12: =SUM(K10:K11) -> 2.61 | ... N12: =SUM(N10:N11) -> 0.74
C13: обед
B14: 14 | C14: Салат из свежих огурцов | D14: 100 | E14: 0.8 | F14: 4.5 | G14: 3 | H14: 58 | I14: 20.48 | J14: 11.69 | K14: 0.53 | L14: 0.02 | M14: 0.03 | N14: 3.84
B15: 64 | C15: Суп с клецками | D15: 300 | E15: 3.2 | F15: 3.2 | G15: 19 | H15: 123 | I15: 16.62 | J15: 21.2 | K15: 0.92 | L15: 0.09 | M15: 0.07 | N15: 5.52
B16: 128 | C16: Оладьи из печени | D16: 120 | E16: 24.1 | F16: 16.8 | G16: 16.2 | H16: 316 | I16: 29.1 | J16: 27.89 | K16: 7.51 | L16: 0.28 | M16: 2.04 | N16: 14.16
B17: 146 | C17: картофельное пюре | D17: 200 | E17: 4.1 | F17: 6.3 | G17: 26.7 | H17: 187 | I17: 47.47 | J17: 37.87 | K17: 1.38 | L17: 0.16 | M17: 0.14 | N17: 13.84
B18: 309 | C18: компот из кураги | D18: 200 | E18: 1.2 | F18: 0.1 | G18: 29.5 | H18: 127 | I18: 34.67 | J18: 21.7 | K18: 0.73 | L18: 0.02 | M18: 0.04 | N18: 0.16
B19: 1, 5 | C19: хлеб пшеничный | D19: 70 | E19: 3.1 | F19: 7 | G19: 33.8 | H19: 172.2 | I19: 16.1 | J19: 23.1 | K19: 1.4 | L19: 0.11 | M19: 0.04 | N19: 0
B20: 1.6 | C20: хлеб ржаной | D20: 40 | E20: 2.6 | F20: 0.48 | G20: 13.3 | H20: 77.2 | I20: 14 | J20: 18.8 | K20: 1.56 | L20: 0.07 | M20: 0.02 | N20: 0
C21: итого | D21: =SUM(D14:D20) -> 1030 | E21: =SUM(E14:E20) -> 39.1 | F21: =SUM(F14:F20) -> 38.38 | G21: =SUM(G14:G20) -> 141.5 | H21: =SUM(H14:H20) -> 1060.4 | I21: =SUM(I14:I20) -> 178.44 | J21: =SUM(J14:J20) -> 162.25 | K21: =SUM(K14:K20) -> 14.03 | ... N21: =SUM(N14:N20) -> 37.52
C22: полдник
C23: сок фруктовый | D23: 200 | E23: 0.5 | F23: 0 | G23: 10.6 | H23: 44 | I23: 7.85 | J23: 2.09 | K23: 0.79 | L23: 0.004 | M23: 0.005 | N23: 0.48
B24: 280 | C24: ватрушка творожная | D24: 100 | E24: 10.5 | F24: 7.7 | G24: 41 | H24: 282 | I24: 52.5 | J24: 14.9 | K24: 0.97 | L24: 0.08 | M24: 0.128 | N24: 0.05
C25: Фрукт в ассортименте
C26: итого | D26: =SUM(D23:D24) -> 300 | E26: =SUM(E23:E24) -> 11 | F26: =SUM(F23:F24) -> 7.7 | G26: =SUM(G23:G24) -> 51.6 | H26: =SUM(H23:H24) -> 326 | I26: =SUM(I23:I24) -> 60.35 | J26: =SUM(J23:J24) -> 16.99 | K26: =SUM(K23:K24) -> 1.76 | ... N26: =SUM(N23:N24) -> 0.53
C27: ужин
B28: 41 | C28: салат ,,студенческий,, | D28: 100 | E28: 3.5 | F28: 10.5 | G28: 7.4 | H28: 142 | I28: 19.82 | J28: 20.17 | K28: 0.82 | L28: 0.08 | M28: 0.1 | N28: 2.51
B29: 133 | C29: Курица отварная | D29: 100 | E29: 43 | F29: 36.2 | G29: 0.4 | H29: 499 | I29: 34.61 | J29: 35.82 | K29: 3.38 | L29: 0.1 | M29: 0.24 | N29: 1.54
B30: 8.1 | C30: Рис отварной | D30: 180 | E30: 4.5 | F30: 7 | G30: 45.3 | H30: 271 | I30: 21.17 | J30: 18.15 | K30: 0.5 | L30: 0.02 | M30: 0.02 | N30: 0
B31: 302 | C31: чай с сахаром,лимоном | D31: 200 | E31: 0.2 | F31: 0 | G31: 9.3 | H31: 38 | I31: 2.73 | J31: 0.73 | K31: 0.06 | L31: 0 | M31: 0 | N31: 1.12
B32: 1, 5 | C32: хлеб пшеничный | D32: 70 | E32: 3.1 | F32: 7 | G32: 33.8 | H32: 172.2 | I32: 16.1 | J32: 23.1 | K32: 1.4 | L32: 0.11 | M32: 0.04 | N32: 0
B33: 1.6 | C33: хлеб ржаной | D33: 40 | E33: 2.6 | F33: 0.48 | G33: 13.3 | H33: 77.2 | I33: 14 | J33: 18.8 | K33: 1.56 | L33: 0.07 | M33: 0.02 | N33: 0
C34: итого | D34: =SUM(D28:D33) -> 690 | E34: =SUM(E28:E33) -> 56.9 | F34: =SUM(F28:F33) -> 61.18 | G34: =SUM(G28:G33) -> 109.5 | H34: =SUM(H28:H33) -> 1199.4 | I34: =SUM(I28:I33) -> 108.43 | J34: =SUM(J28:J33) -> 116.77 | K34: =SUM(K28:K33) -> 7.72 | ... N34: =SUM(N28:N33) -> 5.17
C35: ужин 2
B36: 298 | C36: кисломол.прод. | D36: 200 | E36: 5.7 | F36: 6.3 | G36: 17.6 | H36: 151 | I36: 235.2 | J36: 27.44 | K36: 0.23 | L36: 0.06 | M36: 0.33 | N36: 1.37
C37: итого за день | D37: =D8+D12+D21+D26+D34+D36 -> 3140 | E37: =E8+E12+E21+E26+E34+E36 -> 142.9 | F37: =F8+F12+F21+F26+F34+F36 -> 165.56 | G37: =G8+G12+G21+G26+G34+G36 -> 398.6 | H37: =H8+H12+H21+H26+H34+H36 -> 3635.8 | I37: =I8+I12+I21+I26+I34+I36 -> 1028.06 | J37: =J8+J12+J21+J26+J34+J36 -> 421.89 | K37: =K8+K12+K21+K26+K34+K36 -> 29.51 | ... N37: =N8+N12+N21+N26+N34+N36 -> 46.32

Sheet 3 день
A1: 3 день
A2: № по сборн. Рецеп. | B2: наименование | C2: выход, гр. | D2: белки,г. | E2: жиры,г. | F2: углеводы,г. | G2: Энерг.цен.,ккал | H2: Минеральные элементы | K2: Витамины
H3: Са | I3: Mg | J3: Fe | K3: В1, мг. | L3: В2, мг. | M3: С, мг.
B4: завтрак
A5: 1.3 | B5: Бутерброд с маслом | C5: 115 | D5: 2.4 | E5: 12.7 | F5: 14.6 | G5: 186 | H5: 8.7 | I5: 9.9 | J5: 0.63 | K5: 0.05 | L5: 0.03 | M5: 0
A6: 192 | B6: каша,,геркулес,, | C6: 250 | D6: 7.2 | E6: 9.1 | F6: 30.8 | G6: 239 | H6: 120.32 | I6: 57.76 | J6: 1.46 | K6: 0.16 | L6: 0.14 | M6: 0.18
A7: 304 | B7: кофейный напиток | C7: 200 | D7: 2.9 | E7: 2.8 | F7: 14.9 | G7: 94 | H7: 105.86 | I7: 12.18 | J7: 0.11 | K7: 0.03 | L7: 0.12 | M7: 0.52
B8: итого | C8: =SUM(C5:C7) -> 565 | D8: =SUM(D5:D7) -> 12.5 | E8: =SUM(E5:E7) -> 24.6 | F8: =SUM(F5:F7) -> 60.3 | G8: =SUM(G5:G7) -> 519 | H8: =SUM(H5:H7) -> 234.88 | I8: =SUM(I5:I7) -> 79.84 | J8: =SUM(J5:J7) -> 2.2 | ... M8: =SUM(M5:M7) -> 0.7
B9: завтрак 2
A10: 300 | B10: Чай с сахаром | C10: 200 | D10: 0.2 | E10: 0 | F10: 9.1 | G10: 36 | H10: 0.26 | I10: 0 | J10: 0.03 | K10: 0 | L10: 0 | M10: 0
A11: 1.1 | B11: Бутеброд с сыром | C11: 60 | D11: 4.1 | E11: 2.7 | F11: 0 | G11: 41 | H11: 5.63 | I11: 4.82 | J11: 0.85 | K11: 0.01 | L11: 0.02 | M11: 0
B12: итого | C12: =SUM(C10:C11) -> 260 | D12: =SUM(D10:D11) -> 4.3 | E12: =SUM(E10:E11) -> 2.7 | F12: =SUM(F10:F11) -> 9.1 | G12: =SUM(G10:G11) -> 77 | H12: =SUM(H10:H11) -> 5.89 | I12: =SUM(I10:I11) -> 4.82 | J12: =SUM(J10:J11) -> 0.88 | ... M12: =SUM(M10:M11) -> 0
B13: обед
A14: 42 | B14: Винегрет овощной | C14: 100 | D14: 1.4 | E14: 2.6 | F14: 8.2 | G14: 66 | H14: 28.03 | I14: 19.49 | J14: 0.84 | K14: 0.05 | L14: 0.04 | M14: 13.28
A15: 65 | B15: Суп с бобовами | C15: 300 | D15: 9 | E15: 5.4 | F15: 38.9 | G15: 253 | H15: 46.41 | I15: 52.31 | J15: 2.77 | K15: 0.24 | L15: 0.1 | M15: 5.59
A16: 2.2 | B16: Тефтели | C16: 120 | D16: 18.54 | E16: 12.45 | F16: 7.21 | G16: 216 | H16: 35.58 | I16: 20.75 | J16: 0.92 | K16: 0.04 | L16: 0.09 | M16: 0.35
A17: 227 | B17: рожки отварные | C17: 185 | D17: 6.5 | E17: 4.4 | F17: 40 | G17: 233 | H17: 11.06 | I17: 8.77 | J17: 0.88 | K17: 0.08 | L17: 0.02 | M17: 0
A18: 309 | B18: компот из чернослива | C18: 200 | D18: 1.2 | E18: 0.1 | F18: 29.5 | G18: 127 | H18: 34.67 | I18: 21.7 | J18: 0.73 | K18: 0.02 | L18: 0.04 | M18: 0.16
A19: 1.5 | B19: хлеб пшеничный | C19: 70 | D19: 3.1 | E19: 7 | F19: 33.8 | G19: 172.2 | H19: 16.1 | I19: 23.1 | J19: 1.4 | K19: 0.11 | L19: 0.04 | M19: 0
A20: 1.6 | B20: хлеб ржаной | C20: 40 | D20: 2.6 | E20: 0.48 | F20: 13.3 | G20: 77.2 | H20: 14 | I20: 18.8 | J20: 1.56 | K20: 0.07 | L20: 0.02 | M20: 0
B21: итого | C21: =SUM(C14:C20) -> 1015 | D21: =SUM(D14:D20) -> 42.34 | E21: =SUM(E14:E20) -> 32.43 | F21: =SUM(F14:F20) -> 170.91 | G21: =SUM(G14:G20) -> 1144.4 | H21: =SUM(H14:H20) -> 185.85 | I21: =SUM(I14:I20) -> 164.92 | J21: =SUM(J14:J20) -> 9.1 | ... M21: =SUM(M14:M20) -> 19.38
B22: полдник
A23: 300 | B23: Напиток витаминный | C23: 200 | D23: 0 | E23: 0 | F23: 15.8 | G23: 60 | H23: 0.22 | I23: 0.12 | J23: 0.03 | K23: 0.3 | L23: 0.38 | M23: 0.11
A24: 239 | B24: Запеканка из творога | C24: 170 | D24: 28.9 | E24: 20.3 | F24: 43.2 | G24: 475 | H24: 281 | I24: 42.53 | J24: 1.08 | K24: 0.1 | L24: 0.43 | M24: 0.56
B25: Фрукт в ассортименте
B26: итого | C26: =SUM(C23:C24) -> 370 | D26: =SUM(D23:D24) -> 28.9 | E26: =SUM(E23:E24) -> 20.3 | F26: =SUM(F23:F24) -> 59 | G26: =SUM(G23:G24) -> 535 | H26: =SUM(H23:H24) -> 281.22 | I26: =SUM(I23:I24) -> 42.65 | J26: =SUM(J23:J24) -> 1.11 | ... M26: =SUM(M23:M24) -> 0.67
B27: ужин
A28: 6 | B28: салат из капусты | C28: 100 | D28: 2.1 | E28: 4.5 | F28: 10.3 | G28: 94 | H28: 58.83 | I28: 20.53 | J28: 0.75 | K28: 0.03 | L28: 0.05 | M28: 21.65
A29: 80 | B29: Рыба тушеная с овощами | C29: 120 | D29: 10.7 | E29: 5.2 | F29: 5.6 | G29: 113 | H29: 9.71 | I29: 11.61 | J29: 0.34 | K29: 0.02 | L29: 0.02 | M29: 1.55
A30: 146 | B30: картофельное пюре | C30: 200 | D30: 4.1 | E30: 6.3 | F30: 26.7 | G30: 187 | H30: 47.47 | I30: 37.87 | J30: 1.38 | K30: 0.16 | L30: 0.14 | M30: 13.84
A31: 302 | B31: чай с сах.лим. | C31: 200 | D31: 0.2 | E31: 0 | F31: 9.3 | G31: 38 | H31: 2.73 | I31: 0.73 | J31: 0.06 | K31: 0 | L31: 0 | M31: 1.12
A32: 1.5 | B32: хлеб пшеничный | C32: 70 | D32: 3.1 | E32: 7 | F32: 33.8 | G32: 172.2 | H32: 16.1 | I32: 23.1 | J32: 1.4 | K32: 0.11 | L32: 0.04 | M32: 0
A33: 1.6 | B33: хлеб ржаной | C33: 40 | D33: 2.6 | E33: 0.48 | F33: 13.3 | G33: 77.2 | H33: 14 | I33: 18.8 | J33: 1.56 | K33: 0.07 | L33: 0.02 | M33: 0
B34: итого | C34: =SUM(C28:C33) -> 730 | D34: =SUM(D28:D33) -> 22.8 | E34: =SUM(E28:E33) -> 23.48 | F34: =SUM(F28:F33) -> 99 | G34: =SUM(G28:G33) -> 681.4 | H34: =SUM(H28:H33) -> 148.84 | I34: =SUM(I28:I33) -> 112.64 | J34: =SUM(J28:J33) -> 5.49 | ... M34: =SUM(M28:M33) -> 38.16
A35: 298 | B35: Кисломолочный напиток | C35: 200 | D35: 5.7 | E35: 6.3 | F35: 17.6 | G35: 151 | H35: 235.2 | I35: 27.44 | J35: 0.23 | K35: 0.06 | L35: 0.33 | M35: 1.37
B36: Итого за день | C36: =C8+C12+C21+C26+C34+C35 -> 3140 | D36: =D8+D12+D21+D26+D34+D35 -> 116.54 | E36: =E8+E12+E21+E26+E34+E35 -> 109.81 | F36: =F8+F12+F21+F26+F34+F35 -> 415.91 | G36: =G8+G12+G21+G26+G34+G35 -> 3107.8 | H36: =H8+H12+H21+H26+H34+H35 -> 1091.88 | I36: =I8+I12+I21+I26+I34+I35 -> 432.31 | J36: =J8+J12+J21+J26+J34+J35 -> 19.01 | ... M36: =M8+M12+M21+M26+M34+M35 -> 60.28

Sheet 4 день
A1: 4 день
A2: № по сборн. Рецеп. | B2: наименование | C2: выход, гр. | D2: белки,г. | E2: жиры,г. | F2: углеводы,г. | G2: Энерг.цен.,ккал | H2: Минеральные элементы | K2: Витамины
H3: Са | I3: Mg | J3: Fe | K3: В1, мг. | L3: В2, мг. | M3: С, мг.
B4: завтрак
A5: 1.3 | B5: Бутерброд с маслом | C5: 115 | D5: 2.4 | E5: 12.7 | F5: 14.6 | G5: 186 | H5: 8.7 | I5: 9.9 | J5: 0.63 | K5: 0.05 | L5: 0.03 | M5: 0
A6: 210 | B6: каша,,дружба,, | C6: 250 | D6: 7.9 | E6: 10.8 | F6: 41.9 | G6: 300 | H6: 159.3 | I6: 46.37 | J6: 1 | K6: 0.15 | L6: 0.2 | M6: 0.67
A7: 306 | B7: какао с молоком | C7: 200 | D7: 3.6 | E7: 3.3 | F7: 13.7 | G7: 98 | H7: 110.37 | I7: 26.97 | J7: 0.88 | K7: 0.03 | L7: 0.13 | M7: 0.52
B8: итого | C8: =SUM(C5:C7) -> 565 | D8: =SUM(D5:D7) -> 13.9 | E8: =SUM(E5:E7) -> 26.8 | F8: =SUM(F5:F7) -> 70.2 | G8: =SUM(G5:G7) -> 584 | H8: =SUM(H5:H7) -> 278.37 | I8: =SUM(I5:I7) -> 83.24 | J8: =SUM(J5:J7) -> 2.51 | ... M8: =SUM(M5:M7) -> 1.19
B9: завтрак 2
A10: 239 | B10: Запеканка из творога | C10: 170 | D10: 28.9 | E10: 20.3 | F10: 43.2 | G10: 475 | H10: 281 | I10: 42.53 | J10: 1.08 | K10: 0.1 | L10: 0.43 | M10: 0.56
A11: 304 | B11: кофейный напиток | C11: 200 | D11: 2.9 | E11: 2.8 | F11: 14.9 | G11: 94 | H11: 105.86 | I11: 12.18 | J11: 0.11 | K11: 0.03 | L11: 0.12 | M11: 0.52
B12: итого | C12: =SUM(C10:C11) -> 370 | D12: =SUM(D10:D11) -> 31.8 | E12: =SUM(E10:E11) -> 23.1 | F12: =SUM(F10:F11) -> 58.1 | G12: =SUM(G10:G11) -> 569 | H12: =SUM(H10:H11) -> 386.86 | I12: =SUM(I10:I11) -> 54.71 | J12: =SUM(J10:J11) -> 1.19 | ... M12: =SUM(M10:M11) -> 1.08
B13: обед
A14: 15 | B14: Салат из помидоров и огурцов | C14: 100 | D14: 0.8 | E14: 4.7 | F14: 3.7 | G14: 63 | H14: 15 | I14: 12.07 | J14: 0.56 | K14: 0.03 | L14: 0.02 | M14: 5.7
A15: 62 | B15: Суп с лапшой домашней | C15: 300 | D15: 3.4 | E15: 2.8 | F15: 21.4 | G15: 131 | H15: 18.03 | I15: 25.12 | J15: 1.03 | K15: 0.1 | L15: 0.07 | M15: 7.92
A16: 122 | B16: Картофельная запеканка с мясом | C16: 250 | D16: 18.4 | E16: 17.4 | F16: 30.7 | G16: 362 | H16: 28.99 | I16: 57.29 | J16: 2.42 | K16: 0.11 | L16: 0.16 | M16: 1.69
A17: 309 | B17: компот из изюма | C17: 200 | D17: 1.2 | E17: 0.1 | F17: 29.5 | G17: 127 | H17: 34.67 | I17: 21.7 | J17: 0.73 | K17: 0.02 | L17: 0.04 | M17: 0.16
A18: 1.5 | B18: хлеб пшеничный | C18: 70 | D18: 3.1 | E18: 7 | F18: 33.8 | G18: 172.2 | H18: 16.1 | I18: 23.1 | J18: 1.4 | K18: 0.11 | L18: 0.04 | M18: 0
B19: хлеб ржаной | C19: 40 | D19: 2.6 | E19: 0.48 | F19: 13.3 | G19: 77.2 | H19: 14 | I19: 18.8 | J19: 1.56 | K19: 0.07 | L19: 0.02 | M19: 0
B20: итого | C20: =SUM(C14:C19) -> 960 | D20: =SUM(D14:D19) -> 29.5 | E20: =SUM(E14:E19) -> 32.48 | F20: =SUM(F14:F19) -> 132.4 | G20: =SUM(G14:G19) -> 932.4 | H20: =SUM(H14:H19) -> 126.79 | I20: =SUM(I14:I19) -> 158.08 | J20: =SUM(J14:J19) -> 7.7 | ... M20: =SUM(M14:M19) -> 15.47
B21: полдник
B22: печенье | C22: 50 | D22: 1.5 | E22: 2 | F22: 14.9 | G22: 83.4 | H22: 0 | I22: 4 | J22: 0.4 | K22: 0 | L22: 0 | M22: 0
B23: кефир | C23: 200 | D23: 5.7 | E23: 6.3 | F23: 17.6 | G23: 151 | H23: 235.2 | I23: 27.44 | J23: 0.23 | K23: 0.06 | L23: 0.33 | M23: 1.37
B24: Фрукт в ассортименте
B25: итого | C25: =SUM(C22:C23) -> 250 | D25: =SUM(D22:D23) -> 7.2 | E25: =SUM(E22:E23) -> 8.3 | F25: =SUM(F22:F23) -> 32.5 | G25: =SUM(G22:G23) -> 234.4 | H25: =SUM(H22:H23) -> 235.2 | I25: =SUM(I22:I23) -> 31.44 | J25: =SUM(J22:J23) -> 0.63 | ... M25: =SUM(M22:M23) -> 1.37
B26: ужин
A27: 32 | B27: салат,,Школьный,, | C27: 100 | D27: 1.7 | E27: 7.4 | F27: 7.4 | G27: 108 | H27: 33.4 | I27: 20.86 | J27: 1.13 | K27: 0.04 | L27: 0.04 | M27: 4.58
A28: 128 | B28: Оладьи из печени | C28: 120 | D28: 24.1 | E28: 16.8 | F28: 16.2 | G28: 316 | H28: 29.1 | I28: 27.89 | J28: 7.51 | K28: 0.28 | L28: 2.04 | M28: 14.16
A29: 227 | B29: рожки отварные | C29: 185 | D29: 6.5 | E29: 4.4 | F29: 40 | G29: 233 | H29: 11.06 | I29: 8.77 | J29: 0.88 | K29: 0.08 | L29: 0.02 | M29: 0
B30: чай с сах.лим. | C30: 200 | D30: 0.2 | E30: 0 | F30: 9.3 | G30: 38 | H30: 2.73 | I30: 0.73 | J30: 0.06 | K30: 0 | L30: 0 | M30: 1.12
A31: 1.5 | B31: хлеб пшеничный | C31: 70 | D31: 3.1 | E31: 7 | F31: 33.8 | G31: 172.2 | H31: 16.1 | I31: 23.1 | J31: 1.4 | K31: 0.11 | L31: 0.04 | M31: 0
A32: 1.6 | B32: хлеб ржаной | C32: 40 | D32: 2.6 | E32: 0.48 | F32: 13.3 | G32: 77.2 | H32: 14 | I32: 18.8 | J32: 1.56 | K32: 0.07 | L32: 0.02 | M32: 0
B33: итого | C33: =SUM(C27:C32) -> 715 | D33: =SUM(D27:D32) -> 38.2 | E33: =SUM(E27:E32) -> 36.08 | F33: =SUM(F27:F32) -> 120 | G33: =SUM(G27:G32) -> 944.4 | H33: =SUM(H27:H32) -> 106.39 | I33: =SUM(I27:I32) -> 100.15 | J33: =SUM(J27:J32) -> 12.54 | ... M33: =SUM(M27:M32) -> 19.86
A34: 298 | B34: кислом.прод. | C34: 200 | D34: 5.7 | E34: 6.3 | F34: 17.6 | G34: 151 | H34: 235.2 | I34: 27.44 | J34: 0.23 | K34: 0.06 | L34: 0.33 | M34: 1.37
B35: итого за день | C35: =C8+C12+C20+C25+C34+C33 -> 3060 | D35: =D8+D12+D20+D25+D34 -> 88.1 | E35: =E8+E12+E20+E25+E34 -> 96.98 | F35: =F8+F12+F20+F25+F34 -> 310.8 | G35: =G8+G12+G20+G25+G34 -> 2470.8 | H35: =H8+H12+H20+H25+H34 -> 1262.42 | I35: =I8+I12+I20+I25+I34 -> 354.91 | J35: =J8+J12+J20+J25+J34 -> 12.26 | K35: =K8+K12+K20+K25+K34 -> 0.92 | ... M35: =M8+M12+M20+M25+M34 -> 20.48

Sheet 5 день
A1: 5 день
B2: № по сборн. Рецеп. | C2: наименование | D2: выход, гр. | E2: белки,г. | F2: жиры,г. | G2: углеводы,г. | H2: Энерг.цен.,ккал | I2: Минеральные элементы | L2: Витамины
I3: Са | J3: Mg | K3: Fe | L3: В1, мг. | M3: В2, мг. | N3: С, мг.
C4: завтрак
B5: 1.3 | C5: Бутерброд с маслом | D5: 115 | E5: 2.4 | F5: 12.7 | G5: 14.6 | H5: 186 | I5: 8.7 | J5: 9.9 | K5: 0.63 | L5: 0.05 | M5: 0.03 | N5: 0
B6: 186 | C6: каша манная молочная | D6: 250 | E6: 7.7 | F6: 10.3 | G6: 37.9 | H6: 278 | I6: 116.74 | J6: 17.38 | K6: 0.38 | L6: 0.06 | M6: 0.14 | N6: 0.49
B7: 1.4 | C7: сыр голланд. | D7: 30 | E7: 7.9 | F7: 8 | G7: 0 | H7: 105 | I7: 300 | J7: 16.5 | K7: 0.21 | L7: 0.01 | M7: 0.11 | N7: 0.21
C8: какао с молоком | D8: 200 | E8: 3.6 | F8: 3.3 | G8: 13.7 | H8: 98 | I8: 110.37 | J8: 26.97 | K8: 0.88 | L8: 0.03 | M8: 0.13 | N8: 0.52
C9: итого | D9: =SUM(D5:D8) -> 595 | E9: =SUM(E5:E8) -> 21.6 | F9: =SUM(F5:F8) -> 34.3 | G9: =SUM(G5:G8) -> 66.2 | H9: =SUM(H5:H8) -> 667 | I9: =SUM(I5:I8) -> 535.81 | J9: =SUM(J5:J8) -> 70.75 | K9: =SUM(K5:K8) -> 2.1 | ... N9: =SUM(N5:N8) -> 1.22
C10: завтрак 2
B11: 1.1 | C11: Бутеброд с колбасой | D11: 60 | E11: 4.1 | F11: 2.7 | G11: 0 | H11: 41 | I11: 5.63 | J11: 4.82 | K11: 0.85 | L11: 0.01 | M11: 0.02 | N11: 0
B12: 302 | C12: чай с сахаром,лимоном | D12: 200 | E12: 0.2 | F12: 0 | G12: 9.3 | H12: 38 | I12: 2.73 | J12: 0.73 | K12: 0.06 | L12: 0 | M12: 0 | N12: 1.12
C13: итого | D13: =SUM(D11:D12) -> 260 | E13: =SUM(E11:E12) -> 4.3 | F13: =SUM(F11:F12) -> 2.7 | G13: =SUM(G11:G12) -> 9.3 | H13: =SUM(H11:H12) -> 79 | I13: =SUM(I11:I12) -> 8.36 | J13: =SUM(J11:J12) -> 5.55 | K13: =SUM(K11:K12) -> 0.91 | ... N13: =SUM(N11:N12) -> 1.12
C14: обед
B15: 36 | C15: салат,,мазайка,, | D15: 100 | E15: 1.6 | F15: 6.5 | G15: 9.1 | H15: 114 | I15: 18.08 | J15: 17.99 | K15: 0.54 | L15: 0.04 | M15: 0.04 | N15: 2.16
B16: 58 | C16: Борщ со свежей капустой | D16: 300 | E16: 2.4 | F16: 6.4 | G16: 15.4 | H16: 133 | I16: 48.85 | J16: 27.47 | K16: 1.3 | L16: 0.06 | M16: 0.07 | N16: 9.54
B17: 119 | C17: плов из говядины | D17: 210 | E17: 21.9 | F17: 21.2 | G17: 35.5 | H17: 428 | I17: 17.94 | J17: 49.42 | K17: 3.14 | L17: 0.06 | M17: 0.13 | N17: 0.36
B18: 319 | C18: напиток из шиповника | D18: 200 | E18: 0.7 | F18: 0.3 | G18: 29 | H18: 127 | I18: 12.22 | J18: 3.23 | K18: 0.64 | L18: 0.01 | M18: 0.05 | N18: 80
B19: 1.5 | C19: хлеб пшеничный | D19: 70 | E19: 3.1 | F19: 7 | G19: 33.8 | H19: 172.2 | I19: 16.1 | J19: 23.1 | K19: 1.4 | L19: 0.11 | M19: 0.04 | N19: 0
B20: 1.6 | C20: хлеб ржаной | D20: 40 | E20: 2.6 | F20: 0.48 | G20: 13.3 | H20: 77.2 | I20: 14 | J20: 18.8 | K20: 1.56 | L20: 0.07 | M20: 0.02 | N20: 0
C21: итого | D21: =SUM(D15:D20) -> 920 | E21: =SUM(E15:E20) -> 32.3 | F21: =SUM(F15:F20) -> 41.88 | G21: =SUM(G15:G20) -> 136.1 | H21: =SUM(H15:H20) -> 1051.4 | I21: =SUM(I15:I20) -> 127.19 | J21: =SUM(J15:J20) -> 140.01 | K21: =SUM(K15:K20) -> 8.58 | ... N21: =SUM(N15:N20) -> 92.06
C22: полдник
B23: 324 | C23: кисель из конц. | D23: 200 | E23: 0 | F23: 0 | G23: 20 | H23: 76 | I23: 0.48 | J23: 0 | K23: 0.06 | L23: 0 | M23: 0 | N23: 0
C24: вафли | D24: 50 | E24: 1.5 | F24: 2 | G24: 14.9 | H24: 83.4 | I24: 0 | J24: 4 | K24: 0.4 | L24: 0 | M24: 0 | N24: 0
C25: Фрукт в ассортименте
C26: итого | D26: =SUM(D23:D24) -> 250 | E26: =SUM(E23:E24) -> 1.5 | F26: =SUM(F23:F24) -> 2 | G26: =SUM(G23:G24) -> 34.9 | H26: =SUM(H23:H24) -> 159.4 | I26: =SUM(I23:I24) -> 0.48 | J26: =SUM(J23:J24) -> 4 | K26: =SUM(K23:K24) -> 0.46 | ... N26: =SUM(N23:N24) -> 0
C27: ужин
B28: 8 | C28: салат из капусты с яблоками | D28: 100 | E28: 1.8 | F28: 4.6 | G28: 9.6 | H28: 91 | I28: 47.25 | J28: 16.42 | K28: 1.07 | L28: 0.03 | M28: 0.4 | N28: 19.55
B29: 79 | C29: рыба припущенная | D29: 120 | E29: 21.2 | F29: 1.2 | G29: 0.7 | H29: 99 | I29: 1.95 | J29: 1.75 | K29: 0.05 | L29: 0.01 | M29: 0.01 | N29: 0.11
B30: 146 | C30: картофельное пюре | D30: 200 | E30: 4.1 | F30: 6.3 | G30: 26.7 | H30: 187 | I30: 47.47 | J30: 37.87 | K30: 1.38 | L30: 0.16 | M30: 0.14 | N30: 13.84
B31: 302 | C31: чай с сахаром,лимоном | D31: 200 | E31: 0.2 | F31: 0 | G31: 9.3 | H31: 38 | I31: 2.73 | J31: 0.73 | K31: 0.06 | L31: 0 | M31: 0 | N31: 1.12
B32: 1.5 | C32: хлеб пшеничный | D32: 70 | E32: 3.1 | F32: 7 | G32: 33.8 | H32: 172.2 | I32: 16.1 | J32: 23.1 | K32: 1.4 | L32: 0.11 | M32: 0.04 | N32: 0
B33: 1.6 | C33: хлеб ржаной | D33: 40 | E33: 2.6 | F33: 0.48 | G33: 13.3 | H33: 77.2 | I33: 14 | J33: 18.8 | K33: 1.56 | L33: 0.07 | M33: 0.02 | N33: 0
C34: итого | D34: =SUM(D28:D33) -> 730 | E34: =SUM(E28:E33) -> 33 | F34: =SUM(F28:F33) -> 19.58 | G34: =SUM(G28:G33) -> 93.4 | H34: =SUM(H28:H33) -> 664.4 | I34: =SUM(I28:I33) -> 129.5 | J34: =SUM(J28:J33) -> 98.67 | K34: =SUM(K28:K33) -> 5.52 | ... N34: =SUM(N28:N33) -> 34.62
B35: 298 | C35: Кисломолочный продукт | D35: 200 | E35: 5.7 | F35: 6.3 | G35: 17.6 | H35: 151 | I35: 235.2 | J35: 27.44 | K35: 0.23 | L35: 0.06 | M35: 0.33 | N35: 1.37
C36: Итого за день | D36: =D9+D13+D21+D26+D34+D35 -> 2955 | E36: =E9+E13+E21+E26+E34+E35 -> 98.4 | F36: =F9+F13+F21+F26+F34+F35 -> 106.76 | G36: =G9+G13+G21+G26+G34+G35 -> 357.5 | H36: =H9+H13+H21+H26+H34+H35 -> 2772.2 | I36: =I9+I13+I21+I26+I34+I35 -> 1036.54 | J36: =J9+J13+J21+J26+J34+J35 -> 346.42 | K36: =K9+K13+K21+K26+K34+K35 -> 17.8 | ... N36: =N9+N13+N21+N26+N34+N35 -> 130.39

Sheet 6 день
A1: 6 день
B2: № по сборн. Рецеп. | C2: наименование | D2: выход, гр. | E2: белки,г. | F2: жиры,г. | G2: углеводы,г. | H2: Энерг.цен.,ккал | I2: Минеральные элементы | L2: Витамины
I3: Са | J3: Mg | K3: Fe | L3: В1, мг. | M3: В2, мг. | N3: С, мг.
C4: завтрак
B5: 1.3 | C5: Бутерброд с маслом | D5: 115 | E5: 2.4 | F5: 12.7 | G5: 14.6 | H5: 186 | I5: 8.7 | J5: 9.9 | K5: 0.63 | L5: 0.05 | M5: 0.03 | N5: 0
B6: 186 | C6: каша пшенная молочная | D6: 250 | E6: 6.7 | F6: 7.6 | G6: 32.6 | H6: 222 | I6: 120.25 | J6: 32.58 | K6: 1.65 | L6: 0.12 | M6: 0.16 | N6: 0.47
B7: 1.4 | C7: сыр голланд. | D7: 30 | E7: 7.9 | F7: 8 | G7: 0 | H7: 105 | I7: 300 | J7: 16.5 | K7: 0.21 | L7: 0.01 | M7: 0.11 | N7: 0.21
C8: кофейный напиток | D8: 200 | E8: 2.9 | F8: 2.8 | G8: 14.9 | H8: 94 | I8: 105.86 | J8: 12.18 | K8: 0.11 | L8: 0.03 | M8: 0.12 | N8: 0.52
C9: итого | D9: =SUM(D5:D8) -> 595 | E9: =SUM(E5:E8) -> 19.9 | F9: =SUM(F5:F8) -> 31.1 | G9: =SUM(G5:G8) -> 62.1 | H9: =SUM(H5:H8) -> 607 | I9: =SUM(I5:I8) -> 534.81 | J9: =SUM(J5:J8) -> 71.16 | K9: =SUM(K5:K8) -> 2.6 | ... N9: =SUM(N5:N8) -> 1.2
C10: завтрак 2
C11: печенье | D11: 50 | E11: 1.5 | F11: 2 | G11: 14.9 | H11: 83.4 | I11: 0 | J11: 4 | K11: 0.4 | L11: 0 | M11: 0 | N11: 0
C12: сок фруктовый | D12: 200 | E12: 0.5 | F12: 0 | G12: 10.6 | H12: 44 | I12: 7.85 | J12: 2.09 | K12: 0.79 | L12: 0.004 | M12: 0.005 | N12: 0.48
C13: итого | D13: =SUM(D11:D12) -> 250 | E13: =SUM(E11:E12) -> 2 | F13: =SUM(F11:F12) -> 2 | G13: =SUM(G11:G12) -> 25.5 | H13: =SUM(H11:H12) -> 127.4 | I13: =SUM(I11:I12) -> 7.85 | J13: =SUM(J11:J12) -> 6.09 | K13: =SUM(K11:K12) -> 1.19 | ... N13: =SUM(N11:N12) -> 0.48
C14: обед
B15: 26 | C15: салат из свеклы с изюмом | D15: 100 | E15: 1.3 | F15: 5.8 | G15: 15.7 | H15: 121 | I15: 24.02 | J15: 14.07 | K15: 0.9 | L15: 0.01 | M15: 0.02 | N15: 0.65
B16: 67 | C16: суп Крестьянский | D16: 300 | E16: 2.8 | F16: 6.6 | G16: 15.3 | H16: 138 | I16: 38.36 | J16: 21.53 | K16: 0.8 | L16: 0.06 | M16: 0.05 | N16: 9.61
B17: 122 | C17: запеканка картоф.с мясом | D17: 250 | E17: 18.4 | F17: 17.4 | G17: 30.7 | H17: 362 | I17: 28.99 | J17: 57.29 | K17: 2.42 | L17: 0.11 | M17: 0.16 | N17: 1.29
B18: 309 | C18: компот из кураги | D18: 200 | E18: 1.2 | F18: 0.1 | G18: 29.5 | H18: 127 | I18: 34.67 | J18: 21.7 | K18: 0.73 | L18: 0.02 | M18: 0.04 | N18: 0.16
B19: 1.5 | C19: хлеб пшеничный | D19: 70 | E19: 3.1 | F19: 7 | G19: 33.8 | H19: 172.2 | I19: 16.1 | J19: 23.1 | K19: 1.4 | L19: 0.11 | M19: 0.04 | N19: 0
B20: 1.6 | C20: хлеб ржаной | D20: 40 | E20: 2.6 | F20: 0.48 | G20: 13.3 | H20: 77.2 | I20: 14 | J20: 18.8 | K20: 1.56 | L20: 0.07 | M20: 0.02 | N20: 0
C21: итого | D21: =SUM(D15:D20) -> 960 | E21: =SUM(E15:E20) -> 29.4 | F21: =SUM(F15:F20) -> 37.38 | G21: =SUM(G15:G20) -> 138.3 | H21: =SUM(H15:H20) -> 997.4 | I21: =SUM(I15:I20) -> 156.14 | J21: =SUM(J15:J20) -> 156.49 | K21: =SUM(K15:K20) -> 7.81 | ... N21: =SUM(N15:N20) -> 11.71
C22: полдник
B23: 300 | C23: Чай с сахаром | D23: 200 | E23: 0.2 | F23: 0 | G23: 9.1 | H23: 36 | I23: 0.26 | J23: 0 | K23: 0.03 | L23: 0 | M23: 0 | N23: 0
B24: 257 | C24: блины | D24: 160 | E24: 11.4 | F24: 20.2 | G24: 49.9 | H24: 433 | I24: 137.03 | J24: 23.86 | K24: 1.07 | L24: 0.12 | M24: 0.2 | N24: 0.57
C25: Фрукт в ассортименте
C26: итого | D26: =SUM(D23:D24) -> 360 | E26: =SUM(E23:E24) -> 11.6 | F26: =SUM(F23:F24) -> 20.2 | G26: =SUM(G23:G24) -> 59 | H26: =SUM(H23:H24) -> 469 | I26: =SUM(I23:I24) -> 137.29 | J26: =SUM(J23:J24) -> 23.86 | K26: =SUM(K23:K24) -> 1.1 | ... N26: =SUM(N23:N24) -> 0.57
C27: ужин
B28: 40 | C28: салат,,степной,, | D28: 100 | E28: 1.6 | F28: 3.4 | G28: 8.2 | H28: 74 | I28: 18.46 | J28: 19.53 | K28: 0.61 | L28: 0.06 | M28: 0.05 | N28: 2.98
B29: 100 | C29: Котлета "Здоровье" | D29: 120 | E29: 18.2 | F29: 15.9 | G29: 10.6 | H29: 261 | I29: 49.48 | J29: 37.23 | K29: 1.77 | L29: 0.07 | M29: 0.19 | N29: 0.5
B30: 227 | C30: рожки отварные | D30: 185 | E30: 6.5 | F30: 4.4 | G30: 40 | H30: 233 | I30: 11.06 | J30: 8.77 | K30: 0.88 | L30: 0.08 | M30: 0.02 | N30: 0
B31: 302 | C31: чай с сахаром,лимоном | D31: 200 | E31: 0.2 | F31: 0 | G31: 9.3 | H31: 38 | I31: 2.73 | J31: 0.73 | K31: 0.06 | L31: 0 | M31: 0 | N31: 1.12
B32: 1.5 | C32: хлеб пшеничный | D32: 70 | E32: 3.1 | F32: 7 | G32: 33.8 | H32: 172.2 | I32: 16.1 | J32: 23.1 | K32: 1.4 | L32: 0.11 | M32: 0.04 | N32: 0
B33: 1.6 | C33: хлеб ржаной | D33: 40 | E33: 2.6 | F33: 0.48 | G33: 13.3 | H33: 77.2 | I33: 14 | J33: 18.8 | K33: 1.56 | L33: 0.07 | M33: 0.02 | N33: 0
C34: итого | D34: =SUM(D28:D33) -> 715 | E34: =SUM(E28:E33) -> 32.2 | F34: =SUM(F28:F33) -> 31.18 | G34: =SUM(G28:G33) -> 115.2 | H34: =SUM(H28:H33) -> 855.4 | I34: =SUM(I28:I33) -> 111.83 | J34: =SUM(J28:J33) -> 108.16 | K34: =SUM(K28:K33) -> 6.28 | ... N34: =SUM(N28:N33) -> 4.6
B35: 298 | C35: Кисломолочный продукт | D35: 200 | E35: 5.7 | F35: 6.3 | G35: 17.6 | H35: 151 | I35: 235.2 | J35: 27.44 | K35: 0.23 | L35: 0.06 | M35: 0.33 | N35: 1.37
C36: Итого за день | D36: =D9+D13+D21+D26+D34+D35 -> 3080 | E36: =E9+E13+E21+E26+E34+E35 -> 100.8 | F36: =F9+F13+F21+F26+F34+F35 -> 128.16 | G36: =G9+G13+G21+G26+G34+G35 -> 417.7 | H36: =H9+H13+H21+H26+H34+H35 -> 3207.2 | I36: =I9+I13+I21+I26+I34+I35 -> 1183.12 | J36: =J9+J13+J21+J26+J34+J35 -> 393.2 | K36: =K9+K13+K21+K26+K34+K35 -> 19.21 | ... N36: =N9+N13+N21+N26+N34+N35 -> 19.93

Sheet 7 день
A1: 7 день
B2: № по сборн. Рецеп. | C2: наименование | D2: выход, гр. | E2: белки,г. | F2: жиры,г. | G2: углеводы,г. | H2: Энерг.цен.,ккал | I2: Минеральные элементы | L2: Витамины
I3: Са | J3: Mg | K3: Fe | L3: В1, мг. | M3: В2, мг. | N3: С, мг.
C4: завтрак
B5: 1.3 | C5: Бутерброд с маслом | D5: 115 | E5: 2.4 | F5: 12.7 | G5: 14.6 | H5: 186 | I5: 8.7 | J5: 9.9 | K5: 0.63 | L5: 0.05 | M5: 0.03 | N5: 0
B6: 192 | C6: каша,,геркулес,, | D6: 250 | E6: 7.2 | F6: 9.1 | G6: 30.8 | H6: 239 | I6: 120.32 | J6: 57.76 | K6: 1.46 | L6: 0.16 | M6: 0.14 | N6: 0.18
B7: 1.4 | C7: сыр голланд. | D7: 30 | E7: 7.9 | F7: 8 | G7: 0 | H7: 105 | I7: 300 | J7: 16.5 | K7: 0.21 | L7: 0.01 | M7: 0.11 | N7: 0.21
B8: 306 | C8: какао с молоком | D8: 200 | E8: 3.6 | F8: 3.3 | G8: 13.7 | H8: 98 | I8: 110.37 | J8: 26.97 | K8: 0.88 | L8: 0.03 | M8: 0.13 | N8: 0.52
C9: итого | D9: =SUM(D5:D8) -> 595 | E9: =SUM(E5:E8) -> 21.1 | F9: =SUM(F5:F8) -> 33.1 | G9: =SUM(G5:G8) -> 59.1 | H9: =SUM(H5:H8) -> 628 | I9: =SUM(I5:I8) -> 539.39 | J9: =SUM(J5:J8) -> 111.13 | K9: =SUM(K5:K8) -> 3.18 | ... N9: =SUM(N5:N8) -> 0.91
C10: завтрак 2
C11: вафли | D11: 50 | E11: 1.5 | F11: 2 | G11: 14.9 | H11: 83.4 | I11: 0 | J11: 4 | K11: 0.4 | L11: 0 | M11: 0 | N11: 0
C12: сок фруктовый | D12: 200 | E12: 0.5 | F12: 0 | G12: 10.6 | H12: 44 | I12: 7.85 | J12: 2.09 | K12: 0.79 | L12: 0.004 | M12: 0.005 | N12: 0.48
C13: итого | D13: =SUM(D11:D12) -> 250 | E13: =SUM(E11:E12) -> 2 | F13: =SUM(F11:F12) -> 2 | G13: =SUM(G11:G12) -> 25.5 | H13: =SUM(H11:H12) -> 127.4 | I13: =SUM(I11:I12) -> 7.85 | J13: =SUM(J11:J12) -> 6.09 | K13: =SUM(K11:K12) -> 1.19 | ... N13: =SUM(N11:N12) -> 0.48
C14: обед
B15: 17 | C15: салат из моркови с сахаром | D15: 100 | E15: 1.1 | F15: 8.9 | G15: 8.3 | H15: 120 | I15: 20.99 | J15: 29.09 | K15: 0.54 | L15: 0.04 | M15: 0.05 | N15: 1.76
B16: 65 | C16: Суп с бобовами | D16: 300 | E16: 9 | F16: 5.4 | G16: 38.9 | H16: 253 | I16: 46.41 | J16: 52.31 | K16: 2.77 | L16: 0.24 | M16: 0.1 | N16: 5.59
B17: 133 | C17: курица отварная | D17: 100 | E17: 26.1 | F17: 24.6 | G17: 0.3 | H17: 327 | I17: 22.58 | J17: 24.33 | K17: 2.14 | L17: 0.08 | M17: 0.18 | N17: 1.27
B18: 8.1 | C18: рис отварной | D18: 180 | E18: 4.5 | F18: 7 | G18: 45.3 | H18: 271 | I18: 21.17 | J18: 18.15 | K18: 0.5 | L18: 0.02 | M18: 0.02 | N18: 0
B19: 324 | C19: кисель из конц. | D19: 200 | E19: 0 | F19: 0 | G19: 20 | H19: 76 | I19: 0.48 | J19: 0 | K19: 0.06 | L19: 0 | M19: 0 | N19: 0
B20: 1.5 | C20: хлеб пшеничный | D20: 70 | E20: 3.1 | F20: 7 | G20: 33.8 | H20: 172.2 | I20: 16.1 | J20: 23.1 | K20: 1.4 | L20: 0.11 | M20: 0.04 | N20: 0
B21: 1.6 | C21: хлеб ржаной | D21: 40 | E21: 2.6 | F21: 0.48 | G21: 13.3 | H21: 77.2 | I21: 14 | J21: 18.8 | K21: 1.56 | L21: 0.07 | M21: 0.02 | N21: 0
C22: итого | D22: =SUM(D15:D21) -> 990 | E22: =SUM(E15:E21) -> 46.4 | F22: =SUM(F15:F21) -> 53.38 | G22: =SUM(G15:G21) -> 159.9 | H22: =SUM(H15:H21) -> 1296.4 | I22: =SUM(I15:I21) -> 141.73 | J22: =SUM(J15:J21) -> 165.78 | K22: =SUM(K15:K21) -> 8.97 | ... N22: =SUM(N15:N21) -> 8.62
C23: полдник
B24: 300 | C24: Чай с сахаром | D24: 200 | E24: 0.2 | F24: 0 | G24: 9.1 | H24: 36 | I24: 0.26 | J24: 0 | K24: 0.03 | L24: 0 | M24: 0 | N24: 0
B25: 289 | C25: булочка сдобная | D25: 100 | E25: 7.8 | F25: 8.5 | G25: 52.3 | H25: 321 | I25: 26.96 | J25: 10.57 | K25: 0.91 | L25: 0.08 | M25: 0.07 | N25: 0.05
C26: Фрукт в ассортименте
C27: итого | D27: =SUM(D24:D25) -> 300 | E27: =SUM(E24:E25) -> 8 | F27: =SUM(F24:F25) -> 8.5 | G27: =SUM(G24:G25) -> 61.4 | H27: =SUM(H24:H25) -> 357 | I27: =SUM(I24:I25) -> 27.22 | J27: =SUM(J24:J25) -> 10.57 | K27: =SUM(K24:K25) -> 0.94 | ... N27: =SUM(N24:N25) -> 0.05
C28: ужин
B29: 6 | C29: салат из капусты | D29: 100 | E29: 2.1 | F29: 4.5 | G29: 10.3 | H29: 94 | I29: 58.83 | J29: 20.53 | K29: 0.75 | L29: 0.03 | M29: 0.05 | N29: 21.65
B30: 80 | C30: Рыба тушеная с овощами | D30: 120 | E30: 10.7 | F30: 5.2 | G30: 5.6 | H30: 113 | I30: 9.71 | J30: 11.61 | K30: 0.34 | L30: 0.02 | M30: 0.02 | N30: 1.55
B31: 146 | C31: картофельное пюре | D31: 200 | E31: 4.1 | F31: 6.3 | G31: 26.7 | H31: 187 | I31: 47.47 | J31: 37.87 | K31: 1.38 | L31: 0.16 | M31: 0.14 | N31: 13.84
B32: 302 | C32: чай с сахаром,лимоном | D32: 200 | E32: 0.2 | F32: 0 | G32: 9.3 | H32: 38 | I32: 2.73 | J32: 0.73 | K32: 0.06 | L32: 0 | M32: 0 | N32: 1.12
B33: 1.5 | C33: хлеб пшеничный | D33: 70 | E33: 3.1 | F33: 7 | G33: 33.8 | H33: 172.2 | I33: 16.1 | J33: 23.1 | K33: 1.4 | L33: 0.11 | M33: 0.04 | N33: 0
B34: 1.6 | C34: хлеб ржаной | D34: 40 | E34: 2.6 | F34: 0.48 | G34: 13.3 | H34: 77.2 | I34: 14 | J34: 18.8 | K34: 1.56 | L34: 0.07 | M34: 0.02 | N34: 0
C35: итого | D35: =SUM(D29:D34) -> 730 | E35: =SUM(E29:E34) -> 22.8 | F35: =SUM(F29:F34) -> 23.48 | G35: =SUM(G29:G34) -> 99 | H35: =SUM(H29:H34) -> 681.4 | I35: =SUM(I29:I34) -> 148.84 | J35: =SUM(J29:J34) -> 112.64 | K35: =SUM(K29:K34) -> 5.49 | ... N35: =SUM(N29:N34) -> 38.16
B36: 298 | C36: Кисломолочный продукт | D36: 200 | E36: 5.7 | F36: 6.3 | G36: 17.6 | H36: 151 | I36: 235.2 | J36: 27.44 | K36: 0.23 | L36: 0.06 | M36: 0.33 | N36: 1.37
C37: Итого за день | D37: =D9+D13+D22+D27+D35+D36 -> 3065 | E37: =E9+E13+E22+E27+E35+E36 -> 106 | F37: =F9+F13+F22+F27+F35+F36 -> 126.76 | G37: =G9+G13+G22+G27+G35+G36 -> 422.5 | H37: =H9+H13+H22+H27+H35+H36 -> 3241.2 | I37: =I9+I13+I22+I27+I35+I36 -> 1100.23 | J37: =J9+J13+J22+J27+J35+J36 -> 433.65 | K37: =K9+K13+K22+K27+K35+K36 -> 20 | ... N37: =N9+N13+N22+N27+N35+N36 -> 49.59

Sheet 8 день
A1: 8 день
B2: № по сборн. Рецеп. | C2: наименование | D2: выход, гр. | E2: белки,г. | F2: жиры,г. | G2: углеводы,г. | H2: Энерг.цен.,ккал | I2: Минеральные элементы | L2: Витамины
I3: Са | J3: Mg | K3: Fe | L3: В1, мг. | M3: В2, мг. | N3: С, мг.
C4: завтрак
B5: 1.3 | C5: Бутерброд с маслом | D5: 115 | E5: 2.4 | F5: 12.7 | G5: 14.6 | H5: 186 | I5: 8.7 | J5: 9.9 | K5: 0.63 | L5: 0.05 | M5: 0.03 | N5: 0
B6: 208 | C6: каша пшенная молочная | D6: 250 | E6: 6.7 | F6: 7.6 | G6: 32.6 | H6: 222 | I6: 120.25 | J6: 32.58 | K6: 1.65 | L6: 0.12 | M6: 0.16 | N6: 0.47
B7: 304 | C7: кофейный напиток | D7: 200 | E7: 2.9 | F7: 2.8 | G7: 14.9 | H7: 94 | I7: 105.86 | J7: 12.18 | K7: 0.11 | L7: 0.03 | M7: 0.12 | N7: 0.52
C8: итого | D8: =SUM(D5:D7) -> 565 | E8: =SUM(E5:E7) -> 12 | F8: =SUM(F5:F7) -> 23.1 | G8: =SUM(G5:G7) -> 62.1 | H8: =SUM(H5:H7) -> 502 | I8: =SUM(I5:I7) -> 234.81 | J8: =SUM(J5:J7) -> 54.66 | K8: =SUM(K5:K7) -> 2.39 | ... N8: =SUM(N5:N7) -> 0.99
C9: завтрак 2
B10: 302 | C10: чай с сахаром | D10: 200 | E10: 0.2 | F10: 0 | G10: 9.3 | H10: 38 | I10: 2.73 | J10: 0.73 | K10: 0.06 | L10: 0 | M10: 0 | N10: 1.12
B11: 1.1 | C11: Бутеброд с сыром | D11: 60 | E11: 4.1 | F11: 2.7 | G11: 0 | H11: 41 | I11: 5.63 | J11: 4.82 | K11: 0.85 | L11: 0.01 | M11: 0.02 | N11: 0
C12: итого | D12: =SUM(D10:D11) -> 260 | E12: =SUM(E10:E11) -> 4.3 | F12: =SUM(F10:F11) -> 2.7 | G12: =SUM(G10:G11) -> 9.3 | H12: =SUM(H10:H11) -> 79 | I12: =SUM(I10:I11) -> 8.36 | J12: =SUM(J10:J11) -> 5.55 | K12: =SUM(K10:K11) -> 0.91 | ... N12: =SUM(N10:N11) -> 1.12
C13: обед
B14: 6 | C14: салат из капусты | D14: 100 | E14: 2.1 | F14: 4.5 | G14: 10.3 | H14: 94 | I14: 58.83 | J14: 20.53 | K14: 0.75 | L14: 0.03 | M14: 0.05 | N14: 21.65
B15: 59 | C15: Рассольник | D15: 300 | E15: 2.9 | F15: 7.5 | G15: 17.6 | H15: 156 | I15: 40.68 | J15: 32.54 | K15: 1.23 | L15: 0.12 | M15: 0.09 | N15: 12.61
B16: 142 | C16: кнели курин.с рисом | D16: 100 | E16: 17.1 | F16: 23.6 | G16: 6.1 | H16: 306 | I16: 25.66 | J16: 19.74 | K16: 1.42 | L16: 0.06 | M16: 0.14 | N16: 0.74
B17: 227 | C17: рожки отварные | D17: 185 | E17: 6.5 | F17: 4.4 | G17: 40 | H17: 233 | I17: 11.06 | J17: 8.77 | K17: 0.88 | L17: 0.08 | M17: 0.02 | N17: 0
B18: 317 | C18: напиток витамин. | D18: 200 | E18: 0 | F18: 0 | G18: 15.8 | H18: 60 | I18: 220 | J18: 12.18 | K18: 0.16 | L18: 0.3 | M18: 0.38 | N18: 0.5
B19: 1.5 | C19: хлеб пшеничный | D19: 70 | E19: 3.1 | F19: 7 | G19: 33.8 | H19: 172.2 | I19: 16.1 | J19: 23.1 | K19: 1.4 | L19: 0.11 | M19: 0.04 | N19: 0
B20: 1.6 | C20: хлеб ржаной | D20: 40 | E20: 2.6 | F20: 0.48 | G20: 13.3 | H20: 77.2 | I20: 14 | J20: 18.8 | K20: 1.56 | L20: 0.07 | M20: 0.02 | N20: 0
C21: итого | D21: =SUM(D14:D20) -> 995 | E21: =SUM(E14:E20) -> 34.3 | F21: =SUM(F14:F20) -> 47.48 | G21: =SUM(G14:G20) -> 136.9 | H21: =SUM(H14:H20) -> 1098.4 | I21: =SUM(I14:I20) -> 386.33 | J21: =SUM(J14:J20) -> 135.66 | K21: =SUM(K14:K20) -> 7.4 | ... N21: =SUM(N14:N20) -> 35.5
C22: полдник
B23: 284 | C23: шанежка наливная | D23: 100 | E23: 6.6 | F23: 6.1 | G23: 40.3 | H23: 249 | I23: 14.2 | J23: 9.34 | K23: 0.77 | L23: 0.08 | M23: 0.04 | N23: 0
B24: 319 | C24: напиток из шиповника | D24: 200 | E24: 0.7 | F24: 0.3 | G24: 29 | H24: 127 | I24: 12.22 | J24: 3.23 | K24: 0.64 | L24: 0.01 | M24: 0.05 | N24: 80
C25: Фрукт в ассортименте
C26: итого | D26: =SUM(D23:D24) -> 300 | E26: =SUM(E23:E24) -> 7.3 | F26: =SUM(F23:F24) -> 6.4 | G26: =SUM(G23:G24) -> 69.3 | H26: =SUM(H23:H24) -> 376 | I26: =SUM(I23:I24) -> 26.42 | J26: =SUM(J23:J24) -> 12.57 | K26: =SUM(K23:K24) -> 1.41 | ... N26: =SUM(N23:N24) -> 80
C27: ужин
B28: 40 | C28: салат,,степной,, | D28: 100 | E28: 1.6 | F28: 3.4 | G28: 8.2 | H28: 74 | I28: 18.46 | J28: 19.53 | K28: 0.61 | L28: 0.06 | M28: 0.05 | N28: 2.98
B29: 119 | C29: плов из говядины | D29: 210 | E29: 21.9 | F29: 21.2 | G29: 35.5 | H29: 428 | I29: 17.94 | J29: 49.42 | K29: 3.14 | L29: 0.06 | M29: 0.13 | N29: 0.36
B30: 302 | C30: чай с сахаром,лимоном | D30: 200 | E30: 0.2 | F30: 0 | G30: 9.3 | H30: 38 | I30: 2.73 | J30: 0.73 | K30: 0.06 | L30: 0 | M30: 0 | N30: 1.12
B31: 1.5 | C31: хлеб пшеничный | D31: 70 | E31: 3.1 | F31: 7 | G31: 33.8 | H31: 172.2 | I31: 16.1 | J31: 23.1 | K31: 1.4 | L31: 0.11 | M31: 0.04 | N31: 0
B32: 1.6 | C32: хлеб ржаной | D32: 40 | E32: 2.6 | F32: 0.48 | G32: 13.3 | H32: 77.2 | I32: 14 | J32: 18.8 | K32: 1.56 | L32: 0.07 | M32: 0.02 | N32: 0
C33: итого | D33: =SUM(D28:D32) -> 620 | E33: =SUM(E28:E32) -> 29.4 | F33: =SUM(F28:F32) -> 32.08 | G33: =SUM(G28:G32) -> 100.1 | H33: =SUM(H28:H32) -> 789.4 | I33: =SUM(I28:I32) -> 69.23 | J33: =SUM(J28:J32) -> 111.58 | K33: =SUM(K28:K32) -> 6.77 | ... N33: =SUM(N28:N32) -> 4.46
B34: 298 | C34: Кисломолочный продукт | D34: 200 | E34: 5.7 | F34: 6.3 | G34: 17.6 | H34: 151 | I34: 235.2 | J34: 27.44 | K34: 0.23 | L34: 0.06 | M34: 0.33 | N34: 1.37
C35: итого за день | D35: =D8+D12+D21+D26+D33+D34 -> 2940 | E35: =E8+E12+E21+E26+E33+E34 -> 93 | F35: =F8+F12+F21+F26+F33+F34 -> 118.06 | G35: =G8+G12+G21+G26+G33+G34 -> 395.3 | H35: =H8+H12+H21+H26+H33+H34 -> 2995.8 | I35: =I8+I12+I21+I26+I33+I34 -> 960.35 | J35: =J8+J12+J21+J26+J33+J34 -> 347.46 | K35: =K8+K12+K21+K26+K33+K34 -> 19.11 | ... N35: =N8+N12+N21+N26+N33+N34 -> 123.44

Sheet 9 день
A1: 9 день
B2: № по сборн. Рецеп. | C2: блюдо | D2: выход, гр. | E2: белки,г. | F2: жиры,г. | G2: углеводы,г. | H2: Энерг.цен.,ккал | I2: Минеральные элементы | L2: Витамины
I3: Са | J3: Mg | K3: Fe | L3: В1, мг. | M3: В2, мг. | N3: С, мг.
C4: завтрак
B5: 1.3 | C5: Бутерброд с маслом | D5: 115 | E5: 2.4 | F5: 12.7 | G5: 14.6 | H5: 186 | I5: 8.7 | J5: 9.9 | K5: 0.63 | L5: 0.05 | M5: 0.03 | N5: 0
B6: 210 | C6: каша,,дружба,, | D6: 250 | E6: 7.9 | F6: 10.8 | G6: 41.9 | H6: 300 | I6: 159.3 | J6: 46.37 | K6: 1 | L6: 0.15 | M6: 0.2 | N6: 0.67
C7: какао с молоком | D7: 200 | E7: 3.6 | F7: 3.3 | G7: 13.7 | H7: 98 | I7: 110.37 | J7: 26.97 | K7: 0.88 | L7: 0.03 | M7: 0.13 | N7: 0.52
C8: итого | D8: =SUM(D5:D7) -> 565 | E8: =SUM(E5:E7) -> 13.9 | F8: =SUM(F5:F7) -> 26.8 | G8: =SUM(G5:G7) -> 70.2 | H8: =SUM(H5:H7) -> 584 | I8: =SUM(I5:I7) -> 278.37 | J8: =SUM(J5:J7) -> 83.24 | K8: =SUM(K5:K7) -> 2.51 | ... N8: =SUM(N5:N7) -> 1.19
C9: завтрак 2
B10: 297 | C10: Йогурт | D10: 200 | E10: 8 | F10: 2.9 | G10: 11.6 | H10: 109 | I10: 243.04 | J10: 29.4 | K10: 0.2 | L10: 0.06 | M10: 0.29 | N10: 1.18
C11: печенье | D11: 50 | E11: 1.5 | F11: 2 | G11: 14.9 | H11: 83.4 | I11: 0 | J11: 4 | K11: 0.4 | L11: 0 | M11: 0 | N11: 0
C12: итого | D12: =SUM(D10:D11) -> 250 | E12: =SUM(E10:E11) -> 9.5 | F12: =SUM(F10:F11) -> 4.9 | G12: =SUM(G10:G11) -> 26.5 | H12: =SUM(H10:H11) -> 192.4 | I12: =SUM(I10:I11) -> 243.04 | J12: =SUM(J10:J11) -> 33.4 | K12: =SUM(K10:K11) -> 0.6 | ... N12: =SUM(N10:N11) -> 1.18
C13: обед
B14: 13 | C14: салат из свежих помидор | D14: 100 | E14: 0.9 | F14: 5 | G14: 4.8 | H14: 71 | I14: 15.87 | J14: 14.78 | K14: 0.71 | L14: 0.05 | M14: 0.03 | N14: 16.91
B15: 63 | C15: суп карт.с крупой | D15: 300 | E15: 2.6 | F15: 2.1 | G15: 19.3 | H15: 113 | I15: 15.74 | J15: 24.01 | K15: 0.92 | L15: 0.08 | M15: 0.06 | N15: 7
B16: 140 | C16: Кнели из курицы | D16: 110 | E16: 32.3 | F16: 38.3 | G16: 3 | H16: 486 | I16: 51.71 | J16: 26.75 | K16: 2.58 | L16: 0.07 | M16: 0.23 | N16: 0.45
B17: 8.1 | C17: рис отварной | D17: 180 | E17: 4.5 | F17: 7 | G17: 45.3 | H17: 271 | I17: 21.17 | J17: 18.15 | K17: 0.5 | L17: 0.02 | M17: 0.02 | N17: 0
B18: 309 | C18: компот из кураги | D18: 200 | E18: 1.2 | F18: 0.1 | G18: 29.5 | H18: 127 | I18: 34.67 | J18: 21.7 | K18: 0.73 | L18: 0.02 | M18: 0.04 | N18: 0.16
B19: 1.5 | C19: хлеб пшеничный | D19: 70 | E19: 3.1 | F19: 7 | G19: 33.8 | H19: 172.2 | I19: 16.1 | J19: 23.1 | K19: 1.4 | L19: 0.11 | M19: 0.04 | N19: 0
B20: 1.6 | C20: хлеб ржаной | D20: 40 | E20: 2.6 | F20: 0.48 | G20: 13.3 | H20: 77.2 | I20: 14 | J20: 18.8 | K20: 1.56 | L20: 0.07 | M20: 0.02 | N20: 0
C21: итого | D21: =SUM(D14:D20) -> 1000 | E21: =SUM(E14:E20) -> 47.2 | F21: =SUM(F14:F20) -> 59.98 | G21: =SUM(G14:G20) -> 149 | H21: =SUM(H14:H20) -> 1317.4 | I21: =SUM(I14:I20) -> 169.26 | J21: =SUM(J14:J20) -> 147.29 | K21: =SUM(K14:K20) -> 8.4 | ... N21: =SUM(N14:N20) -> 24.52
C22: полдник
B23: 300 | C23: чай с сах. | D23: 200 | E23: 0.2 | F23: 0 | G23: 9.1 | H23: 36 | I23: 0.26 | J23: 0 | K23: 0.03 | L23: 0 | M23: 0 | N23: 0
B24: 257 | C24: блины | D24: 160 | E24: 11.4 | F24: 20.2 | G24: 49.9 | H24: 433 | I24: 137.03 | J24: 23.86 | K24: 1.07 | L24: 0.12 | M24: 0.2 | N24: 0.57
C25: Фрукт в ассортименте
C26: итого | D26: =SUM(D23:D24) -> 360 | E26: =SUM(E23:E24) -> 11.6 | F26: =SUM(F23:F24) -> 20.2 | G26: =SUM(G23:G24) -> 59 | H26: =SUM(H23:H24) -> 469 | I26: =SUM(I23:I24) -> 137.29 | J26: =SUM(J23:J24) -> 23.86 | K26: =SUM(K23:K24) -> 1.1 | ... N26: =SUM(N23:N24) -> 0.57
C27: ужин
B28: 10 | C28: салат из капусты с кукур. | D28: 100 | E28: 2.2 | F28: 6.3 | G28: 8 | H28: 102 | I28: 47.25 | J28: 16.42 | K28: 1.07 | L28: 0.03 | M28: 0.04 | N28: 19.55
B29: 80 | C29: Рыба тушеная с овощами | D29: 120 | E29: 10.7 | F29: 5.2 | G29: 5.6 | H29: 113 | I29: 9.71 | J29: 11.61 | K29: 0.34 | L29: 0.02 | M29: 0.02 | N29: 1.55
B30: 146 | C30: картофельное пюре | D30: 200 | E30: 4.1 | F30: 6.3 | G30: 26.7 | H30: 187 | I30: 47.47 | J30: 37.87 | K30: 1.38 | L30: 0.16 | M30: 0.14 | N30: 13.84
B31: 300 | C31: чай с сах. | D31: 200 | E31: 0.2 | F31: 0 | G31: 9.1 | H31: 36 | I31: 0.26 | J31: 0 | K31: 0.03 | L31: 0 | M31: 0 | N31: 0
B32: 1.5 | C32: хлеб пшеничный | D32: 70 | E32: 3.1 | F32: 7 | G32: 33.8 | H32: 172.2 | I32: 16.1 | J32: 23.1 | K32: 1.4 | L32: 0.11 | M32: 0.04 | N32: 0
B33: 1.6 | C33: хлеб ржаной | D33: 40 | E33: 2.6 | F33: 0.48 | G33: 13.3 | H33: 77.2 | I33: 14 | J33: 18.8 | K33: 1.56 | L33: 0.07 | M33: 0.02 | N33: 0
C34: итого | D34: =SUM(D28:D33) -> 730 | E34: =SUM(E28:E33) -> 22.9 | F34: =SUM(F28:F33) -> 25.28 | G34: =SUM(G28:G33) -> 96.5 | H34: =SUM(H28:H33) -> 687.4 | I34: =SUM(I28:I33) -> 134.79 | J34: =SUM(J28:J33) -> 107.8 | K34: =SUM(K28:K33) -> 5.78 | ... N34: =SUM(N28:N33) -> 34.94
B35: 298 | C35: Кисломолочный продукт | D35: 200 | E35: 5.7 | F35: 6.3 | G35: 17.6 | H35: 151 | I35: 235.2 | J35: 27.44 | K35: 0.23 | L35: 0.06 | M35: 0.33 | N35: 1.37
C36: итого за день | D36: =SUM(D8+D12+D21+D26+D34+D35) -> 3105 | E36: =SUM(E8+E12+E21+E26+E34+E35) -> 110.8 | F36: =SUM(F8+F12+F21+F26+F34+F35) -> 143.46 | G36: =SUM(G8+G12+G21+G26+G34+G35) -> 418.8 | H36: =SUM(H8+H12+H21+H26+H34+H35) -> 3401.2 | I36: =SUM(I8+I12+I21+I26+I34+I35) -> 1197.95 | J36: =SUM(J8+J12+J21+J26+J34+J35) -> 423.03 | K36: =SUM(K8+K12+K21+K26+K34+K35) -> 18.62 | ... N36: =SUM(N8+N12+N21+N26+N34+N35) -> 63.77

Sheet 10 день
A1: 10 день
B2: № по сборн. Рецеп. | C2: наименование | D2: выход, гр. | E2: белки,г. | F2: жиры,г. | G2: углеводы,г. | H2: Энерг.цен.,ккал | I2: Минеральные элементы | L2: Витамины
I3: Са | J3: Mg | K3: Fe | L3: В1, мг. | M3: В2, мг. | N3: С, мг.
C4: завтрак
B5: 1.3 | C5: Бутерброд с маслом | D5: 115 | E5: 2.4 | F5: 12.7 | G5: 14.6 | H5: 186 | I5: 8.7 | J5: 9.9 | K5: 0.63 | L5: 0.05 | M5: 0.03 | N5: 0
B6: 188 | C6: каша рисовая молочная | D6: 250 | E6: 5.8 | F6: 4.8 | G6: 36.3 | H6: 224 | I6: 46.14 | J6: 27.88 | K6: 1.03 | L6: 0.13 | M6: 0.05 | N6: 0
B7: 304 | C7: кофейный напиток | D7: 200 | E7: 2.9 | F7: 2.8 | G7: 14.9 | H7: 94 | I7: 105.86 | J7: 12.18 | K7: 0.11 | L7: 0.03 | M7: 0.12 | N7: 0.52
C8: итого | D8: =SUM(D5:D7) -> 565 | E8: =SUM(E5:E7) -> 11.1 | F8: =SUM(F5:F7) -> 20.3 | G8: =SUM(G5:G7) -> 65.8 | H8: =SUM(H5:H7) -> 504 | I8: =SUM(I5:I7) -> 160.7 | J8: =SUM(J5:J7) -> 49.96 | K8: =SUM(K5:K7) -> 1.77 | ... N8: =SUM(N5:N7) -> 0.52
C9: завтрак 2
B10: 239 | C10: Запеканка из творога | D10: 170 | E10: 28.9 | F10: 20.3 | G10: 43.2 | H10: 475 | I10: 281 | J10: 42.53 | K10: 1.08 | L10: 0.1 | M10: 0.43 | N10: 0.56
B11: 302 | C11: чай с сахаром | D11: 200 | E11: 0.2 | F11: 0 | G11: 9.3 | H11: 38 | I11: 2.73 | J11: 0.73 | K11: 0.06 | L11: 0 | M11: 0 | N11: 1.12
C12: итого | D12: =SUM(D10:D11) -> 370 | E12: =SUM(E10:E11) -> 29.1 | F12: =SUM(F10:F11) -> 20.3 | G12: =SUM(G10:G11) -> 52.5 | H12: =SUM(H10:H11) -> 513 | I12: =SUM(I10:I11) -> 283.73 | J12: =SUM(J10:J11) -> 43.26 | K12: =SUM(K10:K11) -> 1.14 | ... N12: =SUM(N10:N11) -> 1.68
C13: обед
B14: 14 | C14: Салат из свежих огурцов | D14: 100 | E14: 0.8 | F14: 4.5 | G14: 3 | H14: 58 | I14: 20.48 | J14: 11.69 | K14: 0.53 | L14: 0.02 | M14: 0.03 | N14: 3.84
B15: 62 | C15: Суп с лапшой домашней | D15: 300 | E15: 3.4 | F15: 2.8 | G15: 21.4 | H15: 131 | I15: 18.03 | J15: 25.12 | K15: 1.03 | L15: 0.1 | M15: 0.07 | N15: 7.92
B16: 113 | C16: Говядина тушеная с капустой | D16: 250 | E16: 25.3 | F16: 56.8 | G16: 13.4 | H16: 672 | I16: 75.62 | J16: 54.26 | K16: 4.58 | L16: 0.11 | M16: 0.25 | N16: 26.68
B17: 309 | C17: компот из изюма | D17: 200 | E17: 1.2 | F17: 0.1 | G17: 29.5 | H17: 127 | I17: 34.67 | J17: 21.7 | K17: 0.73 | L17: 0.02 | M17: 0.04 | N17: 0.16
B18: 1.5 | C18: хлеб пшеничный | D18: 70 | E18: 3.1 | F18: 7 | G18: 33.8 | H18: 172.2 | I18: 16.1 | J18: 23.1 | K18: 1.4 | L18: 0.11 | M18: 0.04 | N18: 0
B19: 1.6 | C19: хлеб ржаной | D19: 40 | E19: 2.6 | F19: 0.48 | G19: 13.3 | H19: 77.2 | I19: 14 | J19: 18.8 | K19: 1.56 | L19: 0.07 | M19: 0.02 | N19: 0
C20: итого | D20: =SUM(D14:D19) -> 960 | E20: =SUM(E14:E19) -> 36.4 | F20: =SUM(F14:F19) -> 71.68 | G20: =SUM(G14:G19) -> 114.4 | H20: =SUM(H14:H19) -> 1237.4 | I20: =SUM(I14:I19) -> 178.9 | J20: =SUM(J14:J19) -> 154.67 | K20: =SUM(K14:K19) -> 9.83 | ... N20: =SUM(N14:N19) -> 38.6
B21: 331 | C21: кисель витам. | D21: 200 | E21: 0 | F21: 0 | G21: 21.7 | H21: 85 | I21: 0 | J21: 0 | K21: 0 | L21: 0.27 | M21: 0.34 | N21: 10
B22: 264 | C22: Пирожок печеный с яблоками | D22: 100 | E22: 6.1 | F22: 5.3 | G22: 44 | H22: 252 | I22: 18.93 | J22: 10.98 | K22: 1.42 | L22: 0.08 | M22: 0.06 | N22: 1.39
C23: Фрукт в ассортименте
C24: итого | D24: =SUM(D21:D22) -> 300 | E24: =SUM(E21:E22) -> 6.1 | F24: =SUM(F21:F22) -> 5.3 | G24: =SUM(G21:G22) -> 65.7 | H24: =SUM(H21:H22) -> 337 | I24: =SUM(I21:I22) -> 18.93 | J24: =SUM(J21:J22) -> 10.98 | K24: =SUM(K21:K22) -> 1.42 | ... N24: =SUM(N21:N22) -> 11.39
C25: ужин
B26: 26 | C26: Салат из свекла с изюмом | D26: 100 | E26: 1.3 | F26: 5.8 | G26: 15.7 | H26: 121 | I26: 24.02 | J26: 14.07 | K26: 0.9 | L26: 0.01 | M26: 0.02 | N26: 0.65
B27: 2.2 | C27: Тефтели | D27: 120 | E27: 18.54 | F27: 12.45 | G27: 7.21 | H27: 216 | I27: 35.58 | J27: 20.75 | K27: 0.92 | L27: 0.04 | M27: 0.09 | N27: 0.35
B28: 183 | C28: каша гречневая рассыпчатая | D28: 185 | E28: 10.6 | F28: 6.8 | G28: 46.3 | H28: 312 | I28: 17.21 | J28: 162.83 | K28: 5.58 | L28: 0.31 | M28: 0.16 | N28: 0
B29: 302 | C29: чай с сахаром,лимоном | D29: 200 | E29: 0.2 | F29: 0 | G29: 9.3 | H29: 38 | I29: 2.73 | J29: 0.73 | K29: 0.06 | L29: 0 | M29: 0 | N29: 1.12
B30: 1.5 | C30: хлеб пшеничный | D30: 70 | E30: 3.1 | F30: 7 | G30: 33.8 | H30: 172.2 | I30: 16.1 | J30: 23.1 | K30: 1.4 | L30: 0.11 | M30: 0.04 | N30: 0
B31: 1.6 | C31: хлеб ржаной | D31: 40 | E31: 2.6 | F31: 0.48 | G31: 13.3 | H31: 77.2 | I31: 14 | J31: 18.8 | K31: 1.56 | L31: 0.07 | M31: 0.02 | N31: 0
C32: итого | D32: =SUM(D26:D31) -> 715 | E32: =SUM(E26:E31) -> 36.34 | F32: =SUM(F26:F31) -> 32.53 | G32: =SUM(G26:G31) -> 125.61 | H32: =SUM(H26:H31) -> 936.4 | I32: =SUM(I26:I31) -> 109.64 | J32: =SUM(J26:J31) -> 240.28 | K32: =SUM(K26:K31) -> 10.42 | ... N32: =SUM(N26:N31) -> 2.12
B33: 298 | C33: кисломол.прод. | D33: 200 | E33: 5.7 | F33: 6.3 | G33: 17.6 | H33: 151 | I33: 235.2 | J33: 27.44 | K33: 0.23 | L33: 0.06 | M33: 0.33 | N33: 1.37
C34: итого за день | D34: =SUM(D8+D12+D20+D24+D32+D33) -> 3110 | E34: =SUM(E8+E12+E20+E24+E32+E33) -> 124.74 | F34: =SUM(F8+F12+F20+F24+F32+F33) -> 156.41 | G34: =SUM(G8+G12+G20+G24+G32+G33) -> 441.61 | H34: =SUM(H8+H12+H20+H24+H32+H33) -> 3678.8 | I34: =SUM(I8+I12+I20+I24+I32+I33) -> 987.1 | J34: =SUM(J8+J12+J20+J24+J32+J33) -> 526.59 | K34: =SUM(K8+K12+K20+K24+K32+K33) -> 24.81 | ... N34: =SUM(N8+N12+N20+N24+N32+N33) -> 55.68

Sheet 11 день
A1: 11 день
B2: № по сборн. Рецеп. | C2: наименование | D2: выход, гр. | E2: белки,г. | F2: жиры,г. | G2: углеводы,г. | H2: Энерг.цен.,ккал | I2: Минеральные элементы | L2: Витамины
I3: Са | J3: Mg | K3: Fe | L3: В1, мг. | M3: В2, мг. | N3: С, мг.
C4: завтрак
B5: 1.3 | C5: Бутерброд с маслом | D5: 115 | E5: 2.4 | F5: 12.7 | G5: 14.6 | H5: 186 | I5: 8.7 | J5: 9.9 | K5: 0.63 | L5: 0.05 | M5: 0.03 | N5: 0
B6: 192 | C6: каша,,геркулес,, | D6: 250 | E6: 7.2 | F6: 9.1 | G6: 30.8 | H6: 239 | I6: 120.32 | J6: 57.76 | K6: 1.46 | L6: 0.16 | M6: 0.14 | N6: 0.18
B7: 304 | C7: кофейный напиток | D7: 200 | E7: 2.9 | F7: 2.8 | G7: 14.9 | H7: 94 | I7: 105.86 | J7: 12.18 | K7: 0.11 | L7: 0.03 | M7: 0.12 | N7: 0.52
C8: итого | D8: =SUM(D5:D7) -> 565 | E8: =SUM(E5:E7) -> 12.5 | F8: =SUM(F5:F7) -> 24.6 | G8: =SUM(G5:G7) -> 60.3 | H8: =SUM(H5:H7) -> 519 | I8: =SUM(I5:I7) -> 234.88 | J8: =SUM(J5:J7) -> 79.84 | K8: =SUM(K5:K7) -> 2.2 | ... N8: =SUM(N5:N7) -> 0.7
C9: завтрак 2
B10: 239 | C10: Запеканка из творога | D10: 170 | E10: 28.9 | F10: 20.3 | G10: 43.2 | H10: 475 | I10: 281 | J10: 42.53 | K10: 1.08 | L10: 0.1 | M10: 0.43 | N10: 0.56
B11: 306 | C11: какао с молоком | D11: 200 | E11: 3.6 | F11: 3.3 | G11: 13.7 | H11: 98 | I11: 110.37 | J11: 26.97 | K11: 0.88 | L11: 0.03 | M11: 0.13 | N11: 0.52
C12: итого | D12: =SUM(D10:D11) -> 370 | E12: =SUM(E10:E11) -> 32.5 | F12: =SUM(F10:F11) -> 23.6 | G12: =SUM(G10:G11) -> 56.9 | H12: =SUM(H10:H11) -> 573 | I12: =SUM(I10:I11) -> 391.37 | J12: =SUM(J10:J11) -> 69.5 | K12: =SUM(K10:K11) -> 1.96 | ... N12: =SUM(N10:N11) -> 1.08
C13: обед
B14: 34 | C14: Салат "Здоровье" | D14: 100 | E14: 1.7 | F14: 4.5 | G14: 8.6 | H14: 87 | I14: 31.77 | J14: 28.94 | K14: 1.02 | L14: 0.05 | M14: 0.05 | N14: 8.04
B15: 67 | C15: суп Крестьянский | D15: 300 | E15: 2.8 | F15: 6.6 | G15: 15.3 | H15: 138 | I15: 38.36 | J15: 21.53 | K15: 0.8 | L15: 0.06 | M15: 0.05 | N15: 9.61
B16: 123 | C16: Рулет с луком и яйцом | D16: 120 | E16: 15.7 | F16: 11 | G16: 10.4 | H16: 208 | I16: 54.88 | J16: 33.3 | K16: 2.2 | L16: 0.1 | M16: 0.22 | N16: 0.88
B17: 227 | C17: рожки отварные | D17: 185 | E17: 6.5 | F17: 4.4 | G17: 40 | H17: 233 | I17: 11.06 | J17: 8.77 | K17: 0.88 | L17: 0.08 | M17: 0.02 | N17: 0
B18: 309 | C18: компот из чернослива | D18: 200 | E18: 1.2 | F18: 0.1 | G18: 29.5 | H18: 127 | I18: 34.67 | J18: 21.7 | K18: 0.73 | L18: 0.02 | M18: 0.04 | N18: 0.16
B19: 227 | C19: рожки отварные | D19: 185 | E19: 6.5 | F19: 4.4 | G19: 40 | H19: 233 | I19: 11.06 | J19: 8.77 | K19: 0.88 | L19: 0.08 | M19: 0.02 | N19: 0
B20: 1.5 | C20: хлеб пшеничный | D20: 70 | E20: 3.1 | F20: 7 | G20: 33.8 | H20: 172.2 | I20: 16.1 | J20: 23.1 | K20: 1.4 | L20: 0.11 | M20: 0.04 | N20: 0
B21: 1.6 | C21: хлеб ржаной | D21: 40 | E21: 2.6 | F21: 0.48 | G21: 13.3 | H21: 77.2 | I21: 14 | J21: 18.8 | K21: 1.56 | L21: 0.07 | M21: 0.02 | N21: 0
C22: Фрукт в ассортименте
C23: итого | D23: =SUM(D14:D21) -> 1200 | E23: =SUM(E14:E21) -> 40.1 | F23: =SUM(F14:F21) -> 38.48 | G23: =SUM(G14:G21) -> 190.9 | H23: =SUM(H14:H21) -> 1275.4 | I23: =SUM(I14:I21) -> 211.9 | J23: =SUM(J14:J21) -> 164.91 | K23: =SUM(K14:K21) -> 9.47 | ... N23: =SUM(N14:N21) -> 18.69
C24: полдник
C25: сок фруктовый | D25: 200 | E25: 0.5 | F25: 0 | G25: 10.6 | H25: 44 | I25: 7.85 | J25: 2.09 | K25: 0.79 | L25: 0.004 | M25: 0.005 | N25: 0.48
C26: печенье | D26: 50 | E26: 1.5 | F26: 2 | G26: 14.9 | H26: 83.4 | I26: 0 | J26: 4 | K26: 0.4 | L26: 0 | M26: 0 | N26: 0
C27: итого | D27: =SUM(D25:D26) -> 250 | E27: =SUM(E25:E26) -> 2 | F27: =SUM(F25:F26) -> 2 | G27: =SUM(G25:G26) -> 25.5 | H27: =SUM(H25:H26) -> 127.4 | I27: =SUM(I25:I26) -> 7.85 | J27: =SUM(J25:J26) -> 6.09 | K27: =SUM(K25:K26) -> 1.19 | ... N27: =SUM(N25:N26) -> 0.48
C28: ужин
B29: 39 | C29: салат карт.с огурц.солен. | D29: 100 | E29: 1.5 | F29: 5.2 | G29: 10 | H29: 95 | I29: 23.26 | J29: 21.11 | K29: 0.75 | L29: 0.06 | M29: 0.05 | N29: 6.41
B30: 133 | C30: курица отварная | D30: 100 | E30: 26.1 | F30: 24.6 | G30: 0.3 | H30: 327 | I30: 22.58 | J30: 24.33 | K30: 2.14 | L30: 0.08 | M30: 0.18 | N30: 1.27
B31: 8.1 | C31: рис отварной | D31: 180 | E31: 4.5 | F31: 7 | G31: 45.3 | H31: 271 | I31: 21.17 | J31: 18.15 | K31: 0.5 | L31: 0.02 | M31: 0.02 | N31: 0
B32: 300 | C32: чай с сах. | D32: 200 | E32: 0.2 | F32: 0 | G32: 9.1 | H32: 36 | I32: 0.26 | J32: 0 | K32: 0.03 | L32: 0 | M32: 0 | N32: 0
B33: 1.5 | C33: хлеб пшеничный | D33: 70 | E33: 3.1 | F33: 7 | G33: 33.8 | H33: 172.2 | I33: 16.1 | J33: 23.1 | K33: 1.4 | L33: 0.11 | M33: 0.04 | N33: 0
B34: 1.6 | C34: хлеб ржаной | D34: 40 | E34: 2.6 | F34: 0.48 | G34: 13.3 | H34: 77.2 | I34: 14 | J34: 18.8 | K34: 1.56 | L34: 0.07 | M34: 0.02 | N34: 0
C35: итого | D35: =SUM(D29:D34) -> 690 | E35: =SUM(E29:E34) -> 38 | F35: =SUM(F29:F34) -> 44.28 | G35: =SUM(G29:G34) -> 111.8 | H35: =SUM(H29:H34) -> 978.4 | I35: =SUM(I29:I34) -> 97.37 | J35: =SUM(J29:J34) -> 105.49 | K35: =SUM(K29:K34) -> 6.38 | ... N35: =SUM(N29:N34) -> 7.68
B36: 298 | C36: Кисломолочный продукт | D36: 200 | E36: 5.7 | F36: 6.3 | G36: 17.6 | H36: 151 | I36: 235.2 | J36: 27.44 | K36: 0.23 | L36: 0.06 | M36: 0.33 | N36: 1.37
C37: итого за день | D37: =D8+D12+D23+D27+D35+D36 -> 3275 | E37: =E8+E12+E23+E27+E35+E36 -> 130.8 | F37: =F8+F12+F23+F27+F35+F36 -> 139.26 | G37: =G8+G12+G23+G27+G35+G36 -> 463 | H37: =H8+H12+H23+H27+H35+H36 -> 3624.2 | I37: =I8+I12+I23+I27+I35+I36 -> 1178.57 | J37: =J8+J12+J23+J27+J35+J36 -> 453.27 | K37: =K8+K12+K23+K27+K35+K36 -> 21.43 | ... N37: =N8+N12+N23+N27+N35+N36 -> 30

Sheet 12 день 
A1: 12 день
B2: № по сборн. Рецеп. | C2: наименование | D2: выход, гр. | E2: белки,г. | F2: жиры,г. | G2: углеводы,г. | H2: Энерг.цен.,ккал | I2: Минеральные элементы | L2: Витамины
I3: Са | J3: Mg | K3: Fe | L3: В1, мг. | M3: В2, мг. | N3: С, мг.
C4: завтрак
B5: 1.3 | C5: Бутерброд с маслом | D5: 115 | E5: 2.4 | F5: 12.7 | G5: 14.6 | H5: 186 | I5: 8.7 | J5: 9.9 | K5: 0.63 | L5: 0.05 | M5: 0.03 | N5: 0
B6: 186 | C6: каша гречневая с молоком | D6: 250 | E6: 8.5 | F6: 4.6 | G6: 33.1 | H6: 218 | I6: 30.12 | J6: 98.41 | K6: 3.09 | L6: 0.18 | M6: 0.21 | N6: 0.52
B7: 1.4 | C7: сыр голланд. | D7: 30 | E7: 7.9 | F7: 8 | G7: 0 | H7: 105 | I7: 300 | J7: 16.5 | K7: 0.21 | L7: 0.01 | M7: 0.11 | N7: 0.21
B8: 306 | C8: какао с молоком | D8: 200 | E8: 3.6 | F8: 3.3 | G8: 13.7 | H8: 98 | I8: 110.37 | J8: 26.97 | K8: 0.88 | L8: 0.03 | M8: 0.13 | N8: 0.52
C9: итого | D9: =SUM(D5:D8) -> 595 | E9: =SUM(E5:E8) -> 22.4 | F9: =SUM(F5:F8) -> 28.6 | G9: =SUM(G5:G8) -> 61.4 | H9: =SUM(H5:H8) -> 607 | I9: =SUM(I5:I8) -> 449.19 | J9: =SUM(J5:J8) -> 151.78 | K9: =SUM(K5:K8) -> 4.81 | ... N9: =SUM(N5:N8) -> 1.25
C10: завтрак 2
